{"text_format":"3","workbook":"xlsx","n_sheets":2,"sheets":["Raw TPD","Deconvolution"],"not_rendered":{"charts":4},"read":"whole","date_system":"1904"}

{"sheet":"Raw TPD","index":0,"n_rows":230,"n_cols":5,"rows_kept":230}
["8L IC2H4OH/Ni(100) adsorbed at 100 K"]
["TPD, Qing's data"]
[]
[]
["T/K","27 amu","29 amu","31 amu","43 amu"]
[90.32,0.688278,0.6638580000000001,0.566178,0.574481]
[92.91,0.716606,0.661416,0.566667,0.581807]
[92.91,0.7576309999999999,0.679976,0.564713,0.578877]
[95.46,0.821612,0.68779,0.566178,0.587668]
[97.97,0.913431,0.683883,0.570574,0.581319]
[100.44,0.916361,0.681929,0.564713,0.579853]
[102.87,0.890965,0.707326,0.564225,0.583272]
[105.26,0.829915,0.705861,0.564225,0.587668]
[109.94,0.7927960000000001,0.6931620000000001,0.566178,0.581807]
[114.48,0.7761910000000001,0.699023,0.566178,0.590598]
[118.9,0.7732600000000001,0.69072,0.565201,0.588156]
[123.19,0.760562,0.7,0.567643,0.593529]
[125.29,0.782051,0.745421,0.564225,0.612576]
[131.42,0.7537240000000001,0.749817,0.564225,0.61453]
[135.38,0.7664219999999999,0.7478629999999999,0.564225,0.596948]
[139.24,0.7732600000000001,0.7175819999999999,0.562271,0.599878]
[141.13,0.776679,0.709768,0.566178,0.592552]
[144.86,0.771306,0.699023,0.56569,0.601343]
[148.5,0.833333,0.72149,0.563736,0.601343]
[152.06,0.859707,0.742002,0.569597,0.6257630000000001]
[153.82,0.859707,0.7664219999999999,0.573993,0.613065]
[157.27,0.877778,0.741514,0.568132,0.606716]
[158.98,0.896825,0.75177,0.573993,0.61453]
[160.67,0.906593,0.762515,0.575946,0.612088]
[164,0.9461539999999999,0.736142,0.593529,0.604762]
[165.64,0.948596,0.7654460000000001,0.595971,0.606716]
[167.27,1.040904,0.7654460000000001,0.600366,0.611111]
[168.88,1.044322,0.763004,0.602808,0.602808]
[172.08,1.10928,0.768864,0.609646,0.616972]
[173.66,1.143468,0.7840050000000001,0.615507,0.61746]
[176.79,1.201587,0.780098,0.604274,0.61746]
[178.34,1.276313,0.791331,0.605739,0.622344]
[179.88,1.2968250000000001,0.8035410000000001,0.609646,0.611111]
[182.93,1.397436,0.817705,0.621368,0.621368]
[185.94,1.351526,0.838217,0.638462,0.627717]
[188.93,1.3852259999999998,0.814774,0.634066,0.635043]
[191.88,1.412088,0.832357,0.634066,0.636508]
[194.81,1.325153,0.850916,0.654579,0.637973]
[197.72,1.236264,0.8367519999999999,0.6663,0.647253]
[200.6,1.214774,0.8846149999999999,0.670208,0.664347]
[204.89,1.16105,0.8953599999999999,0.686813,0.6853480000000001]
[207.73,1.169353,0.8953599999999999,0.702442,0.6951160000000001]
[210.55,1.225519,0.936874,0.706838,0.7175819999999999]
[213.36,1.205495,0.917338,0.7048840000000001,0.701954]
[217.55,1.1097679999999999,0.880708,0.665324,0.681929]
[220.32,1.0316239999999999,0.852381,0.6443220000000001,0.6736260000000001]
[223.14,0.989133,0.8748469999999999,0.628205,0.676068]
[225.84,0.9529909999999999,0.885104,0.624298,0.645788]
[228.58,0.9051279999999999,0.862149,0.616484,0.6550670000000001]
[231.31,0.899267,0.836264,0.61746,0.643834]
[234.03,0.861172,0.828938,0.603297,0.657509]
[236.74,0.869475,0.8338220000000001,0.607692,0.637973]
[238.08,0.820147,0.840171,0.606716,0.649206]
[240.77,0.827961,0.812821,0.608669,0.636508]
[243.44,0.800122,0.847985,0.597924,0.62674]
[246.09,0.8250310000000001,0.818193,0.597436,0.631136]
[247.42,0.817705,0.830403,0.590598,0.63895]
[250.04,0.838706,0.801099,0.594017,0.64188]
[252.65,0.80989,0.828449,0.594017,0.6355310000000001]
[255.24,0.791819,0.81917,0.593529,0.639438]
[257.8,0.814774,0.842125,0.5945050000000001,0.640415]
[260.33,0.783517,0.851893,0.589133,0.638462]
[262.84,0.7927960000000001,0.837729,0.582784,0.647741]
[265.31,0.781563,0.837241,0.586203,0.638462]
[269,0.804029,0.820635,0.587668,0.645788]
[271.33,0.7859590000000001,0.857753,0.588645,0.632601]
[273.68,0.795238,0.8553109999999999,0.588156,0.63895]
[276.06,0.780586,0.866545,0.583272,0.644811]
[279.64,0.771795,0.8533580000000001,0.577411,0.644811]
[282.02,0.793285,0.8728940000000001,0.579365,0.647253]
[285.59,0.779121,0.862149,0.587668,0.656532]
[287.97,0.788401,0.869475,0.58083,0.6638580000000001]
[291.6,0.787424,0.8748469999999999,0.578877,0.643834]
[293.93,0.772772,0.910989,0.58083,0.652625]
[297.56,0.77033,0.886081,0.582295,0.649206]
[301.09,0.780098,0.869475,0.583272,0.646276]
[303.47,0.781563,0.862149,0.581807,0.652625]
[305.86,0.7840050000000001,0.8738710000000001,0.583761,0.657021]
[308.25,0.778144,0.88022,0.575458,0.653114]
[311.83,0.7859590000000001,0.889011,0.58083,0.654579]
[314.21,0.792308,0.868987,0.585714,0.6540900000000001]
[316.6,0.775702,0.865568,0.582784,0.651648]
[318.99,0.764957,0.8728940000000001,0.5779,0.640904]
[321.38,0.774725,0.869475,0.576923,0.6452990000000001]
[324.96,0.782051,0.8670329999999999,0.570574,0.643834]
[327.4,0.7752140000000001,0.862149,0.58083,0.651648]
[329.74,0.768864,0.8426130000000001,0.576435,0.641392]
[332.13,0.7752140000000001,0.853846,0.579853,0.634066]
[334.52,0.803053,0.8445670000000001,0.579853,0.635043]
[336.92,0.788401,0.847985,0.573016,0.642369]
[339.31,0.7840050000000001,0.867521,0.574481,0.641392]
[341.7,0.77033,0.8465199999999999,0.576923,0.646276]
[345.29,0.784493,0.840171,0.574481,0.657998]
[347.69,0.786447,0.858242,0.573993,0.636996]
[350.08,0.789377,0.859219,0.578877,0.640415]
[353.67,0.8064709999999999,0.851893,0.572039,0.628694]
[356.12,0.796215,0.8367519999999999,0.571551,0.641392]
[359.67,0.7957270000000001,0.8562879999999999,0.575946,0.642369]
[362.06,0.802564,0.845055,0.572527,0.631624]
[364.46,0.775702,0.837729,0.573504,0.629182]
[366.86,0.787912,0.869963,0.577411,0.6345540000000001]
[370.46,0.789866,0.854823,0.577411,0.630647]
[372.86,0.781563,0.839194,0.576435,0.627717]
[375.26,0.7732600000000001,0.8347990000000001,0.575946,0.628205]
[378.86,0.7732600000000001,0.833333,0.572527,0.61746]
[381.26,0.7742370000000001,0.825519,0.573504,0.624786]
[383.67,0.7673989999999999,0.8445670000000001,0.577411,0.63602]
[386.07,0.7742370000000001,0.848962,0.56862,0.619902]
[388.47,0.746398,0.8142860000000001,0.573504,0.616972]
[392.08,0.735653,0.805006,0.573016,0.633089]
[394.49,0.775702,0.8240540000000001,0.569109,0.628205]
[396.89,0.742002,0.8162389999999999,0.577411,0.625275]
[399.3,0.758608,0.81917,0.574481,0.627228]
[401.7,0.7478629999999999,0.8142860000000001,0.573993,0.618926]
[405.31,0.735653,0.8045180000000001,0.573993,0.626252]
[407.72,0.7371179999999999,0.8035410000000001,0.574481,0.622833]
[410.13,0.740537,0.774725,0.571062,0.607692]
[412.54,0.73663,0.795238,0.571062,0.615507]
[416.15,0.740537,0.810867,0.570574,0.61746]
[417.35,0.731746,0.7830280000000001,0.573016,0.61746]
[420.97,0.731746,0.769353,0.570574,0.612576]
[423.38,0.752259,0.7576309999999999,0.571551,0.624786]
[425.84,0.73956,0.776679,0.571551,0.618926]
[428.2,0.7244200000000001,0.771306,0.565201,0.615995]
[430.61,0.731746,0.778144,0.574969,0.61453]
[434.23,0.729792,0.7752140000000001,0.570574,0.607204]
[436.69,0.726862,0.778144,0.573016,0.609646]
[439.1,0.7332110000000001,0.765934,0.56862,0.619902]
[441.46,0.708303,0.778144,0.573993,0.609646]
[445.08,0.738584,0.757143,0.570085,0.613065]
[447.5,0.727839,0.772283,0.566667,0.609646]
[449.91,0.740049,0.738584,0.570085,0.615507]
[452.32,0.720024,0.744444,0.563736,0.617949]
[454.78,0.734676,0.7664219999999999,0.571551,0.612088]
[458.36,0.736142,0.752259,0.569109,0.600366]
[460.77,0.721001,0.749817,0.572527,0.612576]
[464.39,0.767888,0.787424,0.571551,0.626252]
[466.8,0.759096,0.811844,0.569109,0.623321]
[469.22,0.777656,0.8074479999999999,0.570574,0.615507]
[471.63,0.781563,0.778633,0.572039,0.62381]
[474.04,0.7752140000000001,0.790843,0.571551,0.615995]
[476.46,0.777656,0.781075,0.570574,0.6116]
[480.08,0.761538,0.764957,0.566667,0.620879]
[482.49,0.745421,0.7654460000000001,0.56569,0.621856]
[484.9,0.7478629999999999,0.7566539999999999,0.573993,0.608181]
[487.32,0.743468,0.771795,0.572039,0.61746]
[489.73,0.768864,0.73956,0.570574,0.611111]
[493.35,0.764957,0.7644690000000001,0.572039,0.61746]
[495.81,0.758608,0.777656,0.569109,0.6116]
[498.17,0.762027,0.7830280000000001,0.567155,0.612576]
[500.63,0.765934,0.755189,0.573016,0.607204]
[502.99,0.759585,0.744444,0.567155,0.607692]
[506.61,0.74591,0.774725,0.564713,0.609158]
[509.01,0.738095,0.754212,0.573016,0.619902]
[511.42,0.732234,0.7478629999999999,0.567643,0.603785]
[515.04,0.73663,0.76398,0.572527,0.603785]
[517.44,0.740537,0.760073,0.570085,0.609158]
[519.85,0.750305,0.736142,0.571551,0.614042]
[522.26,0.7244200000000001,0.7556780000000001,0.567643,0.600366]
[525.86,0.73956,0.734676,0.571062,0.604762]
[528.27,0.744444,0.752747,0.565201,0.606227]
[530.67,0.731746,0.7371179999999999,0.573504,0.606716]
[533.12,0.7468859999999999,0.764957,0.570085,0.602808]
[535.47,0.730281,0.752259,0.573504,0.610623]
[539.12,0.743468,0.7547010000000001,0.572039,0.618926]
[541.52,0.760562,0.77033,0.570574,0.620879]
[543.87,0.7742370000000001,0.7576309999999999,0.567155,0.6116]
[546.27,0.78254,0.730281,0.566178,0.608181]
[548.66,0.754212,0.7644690000000001,0.567155,0.615995]
[552.25,0.7429790000000001,0.738584,0.573504,0.6116]
[554.65,0.752747,0.7556780000000001,0.572527,0.61746]
[557.04,0.7468859999999999,0.755189,0.567155,0.609646]
[559.48,0.755189,0.745421,0.568132,0.609646]
[561.82,0.744444,0.746398,0.568132,0.595482]
[564.25,0.7439560000000001,0.746398,0.569109,0.609158]
[567.78,0.751282,0.745421,0.571062,0.609646]
[570.16,0.731746,0.723932,0.569109,0.608181]
[572.55,0.760073,0.752747,0.572039,0.603785]
[574.93,0.745421,0.749817,0.564713,0.598901]
[577.35,0.7351650000000001,0.7429790000000001,0.571062,0.597924]
[580.87,0.7449330000000001,0.7644690000000001,0.571551,0.59939]
[583.24,0.746398,0.756166,0.570085,0.608669]
[585.66,0.742002,0.745421,0.571062,0.605739]
[587.98,0.732723,0.736142,0.567643,0.603785]
[591.58,0.737607,0.7576309999999999,0.571062,0.604274]
[593.95,0.716606,0.732723,0.56862,0.6116]
[596.26,0.7341880000000001,0.73956,0.565201,0.608669]
[598.62,0.749817,0.7478629999999999,0.570085,0.603785]
[601.03,0.742002,0.73663,0.573016,0.612088]
[604.56,0.7351650000000001,0.7337,0.567643,0.598901]
[606.92,0.742491,0.725397,0.563248,0.602808]
[609.22,0.7337,0.73663,0.566667,0.6116]
[611.56,0.743468,0.726374,0.566178,0.600366]
[613.96,0.728816,0.728327,0.569597,0.603297]
[617.47,0.751282,0.729304,0.566667,0.607692]
[620.98,0.735653,0.721001,0.570085,0.602808]
[624.43,0.738584,0.725885,0.570085,0.601832]
[626.81,0.740537,0.744444,0.562271,0.60525]
[630.29,0.7136750000000001,0.706349,0.561783,0.603785]
[632.57,0.741514,0.752747,0.571551,0.598413]
[636.09,0.752747,0.721978,0.570574,0.604762]
[639.52,0.719048,0.731746,0.570085,0.5945050000000001]
[641.83,0.7332110000000001,0.737607,0.56569,0.610134]
[645.33,0.723932,0.743468,0.568132,0.599878]
[647.63,0.73956,0.7341880000000001,0.567643,0.598413]
[649.88,0.718071,0.722466,0.572527,0.601832]
[653.32,0.725885,0.737607,0.566667,0.597436]
[655.61,0.720513,0.735653,0.565201,0.592552]
[657.89,0.7332110000000001,0.7371179999999999,0.571062,0.596948]
[661.36,0.718559,0.71514,0.566178,0.604762]
[663.59,0.7371179999999999,0.725397,0.567643,0.598413]
[665.9,0.716606,0.71221,0.566178,0.596948]
[668.12,0.724908,0.727839,0.567643,0.59304]
[671.52,0.726374,0.720024,0.564713,0.601832]
[674.17,0.724908,0.719536,0.569597,0.596459]
[676.46,0.731258,0.719048,0.569597,0.595482]
[678.76,0.7048840000000001,0.719048,0.56862,0.597436]
[681.1,0.723932,0.727839,0.562271,0.603297]
[684.53,0.72149,0.725397,0.563736,0.593529]
[686.78,0.714164,0.70928,0.568132,0.586203]
[689.12,0.6980459999999999,0.696581,0.56569,0.597924]
[691.41,0.721001,0.700488,0.564225,0.595971]
[693.7,0.718559,0.69072,0.570574,0.600366]
[697.13,0.732234,0.701465,0.563248,0.594994]
[699.42,0.70293,0.718071,0.560806,0.589133]

{"sheet":"Deconvolution","index":1,"n_rows":255,"n_cols":11,"rows_kept":255}
[{"$nulls":6},"Sensitivity Factors (x1e6 V/Torr)"]
[]
[{"$nulls":7},"27amu","29amu","31amu","43amu"]
[{"$nulls":6},"C2H4",5.6,0.2,0,0]
[{"$nulls":6},"CH3CHO",0.22399999999999998,4.69,0,1.26]
[{"$nulls":6},"CH3CH2OH",0.78,1.09,2.69,0.377]
[{"$nulls":6},"ICH2CH2OH",0.375,0.5,0.06699999999999999,0.422]
[]
[{"$nulls":6},"Inverse Matrix"]
[]
[{"$nulls":7},{"$f":"TRANSPOSE(G4:G7)","v":"C2H4"},"CH3CHO","CH3CH2OH","ICH2CH2OH"]
[{"$nulls":6},{"$f":"TRANSPOSE(H3:K3)","v":"27amu"},{"$f":"MINVERSE(H4:K7)","v":0.17689409499919845},-0.010899072595197635,-8.2897765560484412E-4,0.033282834232492994]
[{"$nulls":6},"29amu",0.04696534002244412,0.3051740326655337,0.02321137435693563,-0.9319193585098038]
[{"$nulls":6},"31amu",-0.04141574773224186,-0.07279974344187552,0.3746701302693046,-0.117352991409395]
[{"$nulls":6},"43amu",-0.20626327141673284,-0.34033715947621346,-0.086250519634264,3.462893997256271]
{"$rows_empty":10}
["1. Background substraction",{"$nulls":5},"2. Deconvolution"]
[]
[null,"Ethylene","Acetaldehyde","Ethanol","Molec"]
[null,-0.7,-0.69,-0.57,-0.59]
["T/K","27 amu","29 amu","31 amu","43 amu",null,"T/K",{"$f":"H11","v":"C2H4"},{"$f":"I11","v":"CH3CHO"},{"$f":"J11","v":"CH3CH2OH"},{"$f":"K11","v":"ICH2CH2OH"}]
[{"$f":"'Raw TPD'!A6","v":90.32},{"$f":"'Raw TPD'!B6+B$29","v":-0.01172200000000001},{"$f":"'Raw TPD'!C6+C$29","v":-0.026141999999999888},{"$f":"'Raw TPD'!D6+D$29","v":-0.003821999999999992},{"$f":"'Raw TPD'!E6+E$29","v":-0.01551899999999995},null,{"$f":"A31","v":90.32},{"$f":"MMULT(B31:E31,$H$12:$K$15)","v":5.7970196501559886E-5},-2.2901676356352546E-3,-6.9054189604514935E-4,-0.029320034322963286]
[{"$f":"'Raw TPD'!A7","v":92.91},{"$f":"'Raw TPD'!B7+B$29","v":0.01660600000000001},{"$f":"'Raw TPD'!C7+C$29","v":-0.028583999999999943},{"$f":"'Raw TPD'!D7+D$29","v":-3.3329999999999194E-3},{"$f":"'Raw TPD'!E7+E$29","v":-0.008193000000000006},null,92.91,{"$f":"MMULT(B32:E32,$H$12:$K$15)","v":3.4229997322640033E-3},-0.005873060656747066,-1.2193649643916574E-3,-7.8967531024418808E-4]
[{"$f":"'Raw TPD'!A8","v":92.91},{"$f":"'Raw TPD'!B8+B$29","v":0.05763099999999999},{"$f":"'Raw TPD'!C8+C$29","v":-0.010023999999999922},{"$f":"'Raw TPD'!D8+D$29","v":-0.005286999999999931},{"$f":"'Raw TPD'!E8+E$29","v":-0.011122999999999994},null,92.91,{"$f":"MMULT(B33:E33,$H$12:$K$15)","v":0.012237034446742505},4.8327351225799058E-4,-1.3019620766659534E-3,-0.026637641996545017]
[{"$f":"'Raw TPD'!A9","v":95.46},{"$f":"'Raw TPD'!B9+B$29","v":0.12161200000000005},{"$f":"'Raw TPD'!C9+C$29","v":-2.2099999999999342E-3},{"$f":"'Raw TPD'!D9+D$29","v":-0.003821999999999992},{"$f":"'Raw TPD'!E9+E$29","v":-2.3320000000000007E-3},null,95.46,{"$f":"MMULT(B34:E34,$H$12:$K$15)","v":0.022047948216369382},-9.2798575330460726E-4,-0.001382963794084418,-1.5198118494463763E-3]
[{"$f":"'Raw TPD'!A10","v":97.97},{"$f":"'Raw TPD'!B10+B$29","v":0.21343100000000004},{"$f":"'Raw TPD'!C10+C$29","v":-0.006116999999999928},{"$f":"'Raw TPD'!D10+D$29","v":5.7400000000007445E-4},{"$f":"'Raw TPD'!E10+E$29","v":-0.008680999999999939},null,97.97,{"$f":"MMULT(B35:E35,$H$12:$K$15)","v":0.03923419542482698},-1.2802696922033286E-3,6.4488790876487815E-4,-0.01732460409817086]
[{"$f":"'Raw TPD'!A11","v":100.44},{"$f":"'Raw TPD'!B11+B$29","v":0.21636100000000003},{"$f":"'Raw TPD'!C11+C$29","v":-0.00807099999999994},{"$f":"'Raw TPD'!D11+D$29","v":-0.005286999999999931},{"$f":"'Raw TPD'!E11+E$29","v":-0.010147000000000017},null,100.44,{"$f":"MMULT(B36:E36,$H$12:$K$15)","v":0.04020584450212639},-9.8290046263072462E-4,-1.4723943929840547E-3,-0.019794911684668993]
[{"$f":"'Raw TPD'!A12","v":102.87},{"$f":"'Raw TPD'!B12+B$29","v":0.19096500000000005},{"$f":"'Raw TPD'!C12+C$29","v":0.017326000000000064},{"$f":"'Raw TPD'!D12+D$29","v":-0.005774999999999975},{"$f":"'Raw TPD'!E12+E$29","v":-0.006727999999999956},null,102.87,{"$f":"MMULT(B37:E37,$H$12:$K$15)","v":0.03622121756599628},0.005916310819153919,-0.001339571952100211,-0.03241121565448368]
[{"$f":"'Raw TPD'!A13","v":105.26},{"$f":"'Raw TPD'!B13+B$29","v":0.129915},{"$f":"'Raw TPD'!C13+C$29","v":0.015861000000000014},{"$f":"'Raw TPD'!D13+D$29","v":-0.005774999999999975},{"$f":"'Raw TPD'!E13+E$29","v":-2.3320000000000007E-3},null,105.26,{"$f":"MMULT(B38:E38,$H$12:$K$15)","v":0.02444629550201437},0.004638497090178294,-0.001702124813970668,-0.017854988812222056]
[{"$f":"'Raw TPD'!A14","v":109.94},{"$f":"'Raw TPD'!B14+B$29","v":0.0927960000000001},{"$f":"'Raw TPD'!C14+C$29","v":0.003162000000000109},{"$f":"'Raw TPD'!D14+D$29","v":-0.003821999999999992},{"$f":"'Raw TPD'!E14+E$29","v":-0.008193000000000006},null,109.94,{"$f":"MMULT(B39:E39,$H$12:$K$15)","v":0.01841177481524653},3.0201929177679564E-3,-0.000728870175338628,-0.02778118251252362]
[{"$f":"'Raw TPD'!A15","v":114.48},{"$f":"'Raw TPD'!B15+B$29","v":0.07619100000000012},{"$f":"'Raw TPD'!C15+C$29","v":0.009023000000000003},{"$f":"'Raw TPD'!D15+D$29","v":-0.003821999999999992},{"$f":"'Raw TPD'!E15+E$29","v":5.9799999999998743E-4},null,114.48,{"$f":"MMULT(B40:E40,$H$12:$K$15)","v":0.013936451806631887},1.997893054708484E-3,-1.3372914543661265E-3,-0.003353522205300171]
[{"$f":"'Raw TPD'!A16","v":118.9},{"$f":"'Raw TPD'!B16+B$29","v":0.0732600000000001},{"$f":"'Raw TPD'!C16+C$29","v":7.2000000000005393E-4},{"$f":"'Raw TPD'!D16+D$29","v":-0.004798999999999998},{"$f":"'Raw TPD'!E16+E$29","v":-1.8439999999999568E-3},null,118.9,{"$f":"MMULT(B41:E41,$H$12:$K$15)","v":0.013572180090316934},3.9820693604670425E-4,-1.683014710469429E-3,-0.004055081027421397]
[{"$f":"'Raw TPD'!A17","v":123.19},{"$f":"'Raw TPD'!B17+B$29","v":0.060562000000000005},{"$f":"'Raw TPD'!C17+C$29","v":0.010000000000000009},{"$f":"'Raw TPD'!D17+D$29","v":-2.3569999999999425E-3},{"$f":"'Raw TPD'!E17+E$29","v":3.5290000000000044E-3},null,123.19,{"$f":"MMULT(B42:E42,$H$12:$K$15)","v":0.01055242741414114},0.001362209851645918,-1.0055663820434317E-3,0.005193635338759528]
[{"$f":"'Raw TPD'!A18","v":125.29},{"$f":"'Raw TPD'!B18+B$29","v":0.0820510000000001},{"$f":"'Raw TPD'!C18+C$29","v":0.055421000000000054},{"$f":"'Raw TPD'!D18+D$29","v":-0.005774999999999975},{"$f":"'Raw TPD'!E18+E$29","v":0.02257600000000004},null,125.29,{"$f":"MMULT(B43:E43,$H$12:$K$15)","v":0.012699779825812652},0.008755737064889822,-2.8925326009526745E-3,0.029938995471085375]
[{"$f":"'Raw TPD'!A19","v":131.42},{"$f":"'Raw TPD'!B19+B$29","v":0.053724000000000105},{"$f":"'Raw TPD'!C19+C$29","v":0.05981700000000001},{"$f":"'Raw TPD'!D19+D$29","v":-0.005774999999999975},{"$f":"'Raw TPD'!E19+E$29","v":0.024530000000000052},null,131.42,{"$f":"MMULT(B44:E44,$H$12:$K$15)","v":0.007492321999160725},0.00974100133227513,-2.9355464645946213E-3,0.031665969996411275]
[{"$f":"'Raw TPD'!A20","v":135.38},{"$f":"'Raw TPD'!B20+B$29","v":0.06642199999999998},{"$f":"'Raw TPD'!C20+C$29","v":0.057863},{"$f":"'Raw TPD'!D20+D$29","v":-0.005774999999999975},{"$f":"'Raw TPD'!E20+E$29","v":0.006948000000000065},null,135.38,{"$f":"MMULT(B45:E45,$H$12:$K$15)","v":0.013273273781105663},0.014990102786543637,-0.001474971212149315,-0.026975036407736068]
[{"$f":"'Raw TPD'!A21","v":139.24},{"$f":"'Raw TPD'!B21+B$29","v":0.0732600000000001},{"$f":"'Raw TPD'!C21+C$29","v":0.027581999999999995},{"$f":"'Raw TPD'!D21+D$29","v":-0.007728999999999986},{"$f":"'Raw TPD'!E21+E$29","v":0.009878000000000053},null,139.24,{"$f":"MMULT(B46:E46,$H$12:$K$15)","v":0.01253729312730835},0.004819662866412771,-3.1683228453353272E-3,0.01184758886495588]
[{"$f":"'Raw TPD'!A22","v":141.13},{"$f":"'Raw TPD'!B22+B$29","v":0.07667900000000005},{"$f":"'Raw TPD'!C22+C$29","v":0.019768000000000008},{"$f":"'Raw TPD'!D22+D$29","v":-0.003821999999999992},{"$f":"'Raw TPD'!E22+E$29","v":2.5519999999999987E-3},null,141.13,{"$f":"MMULT(B47:E47,$H$12:$K$15)","v":0.01412438027118435},4.606650478656665E-3,-1.2568232933621412E-3,-6.5842588187437715E-3]
[{"$f":"'Raw TPD'!A23","v":144.86},{"$f":"'Raw TPD'!B23+B$29","v":0.07130600000000009},{"$f":"'Raw TPD'!C23+C$29","v":0.009023000000000003},{"$f":"'Raw TPD'!D23+D$29","v":-4.309999999999925E-3},{"$f":"'Raw TPD'!E23+E$29","v":0.011342999999999992},null,144.86,{"$f":"MMULT(B48:E48,$H$12:$K$15)","v":0.010876236186081335},-0.00157026147943626,-2.4428427555600596E-3,0.033749955409800525]
[{"$f":"'Raw TPD'!A24","v":148.5},{"$f":"'Raw TPD'!B24+B$29","v":0.13333300000000003},{"$f":"'Raw TPD'!C24+C$29","v":0.03149000000000002},{"$f":"'Raw TPD'!D24+D$29","v":-0.006263999999999936},{"$f":"'Raw TPD'!E24+E$29","v":0.011342999999999992},null,148.5,{"$f":"MMULT(B49:E49,$H$12:$K$15)","v":0.02298454288194966},0.004752297435283394,-2.7048772394732135E-3,0.01510626528631355]
[{"$f":"'Raw TPD'!A25","v":152.06},{"$f":"'Raw TPD'!B25+B$29","v":0.15970700000000004},{"$f":"'Raw TPD'!C25+C$29","v":0.052002000000000104},{"$f":"'Raw TPD'!D25+D$29","v":-4.0299999999993119E-4},{"$f":"'Raw TPD'!E25+E$29","v":0.0357630000000001},null,152.06,{"$f":"MMULT(B50:E50,$H$12:$K$15)","v":0.023333614012543594},1.9868623219711033E-3,-2.16092504131301E-3,0.08074460240495619]
[{"$f":"'Raw TPD'!A26","v":153.82},{"$f":"'Raw TPD'!B26+B$29","v":0.15970700000000004},{"$f":"'Raw TPD'!C26+C$29","v":0.07642199999999999},{"$f":"'Raw TPD'!D26+D$29","v":0.003993000000000024},{"$f":"'Raw TPD'!E26+E$29","v":0.023065000000000002},null,153.82,{"$f":"MMULT(B51:E51,$H$12:$K$15)","v":0.026917575009310434},0.01344078577852191,1.1481557114630947E-3,0.013499419942750723]
[{"$f":"'Raw TPD'!A27","v":157.27},{"$f":"'Raw TPD'!B27+B$29","v":0.177778},{"$f":"'Raw TPD'!C27+C$29","v":0.05151400000000006},{"$f":"'Raw TPD'!D27+D$29","v":-1.8679999999999808E-3},{"$f":"'Raw TPD'!E27+E$29","v":0.016716000000000064},null,157.27,{"$f":"MMULT(B52:E52,$H$12:$K$15)","v":0.030496718718445396},8.230033753848294E-3,-0.001093310740584351,0.016015013315998854]
[{"$f":"'Raw TPD'!A28","v":158.98},{"$f":"'Raw TPD'!B28+B$29","v":0.19682500000000003},{"$f":"'Raw TPD'!C28+C$29","v":0.0617700000000001},{"$f":"'Raw TPD'!D28+D$29","v":0.003993000000000024},{"$f":"'Raw TPD'!E28+E$29","v":0.024530000000000052},null,158.98,{"$f":"MMULT(B53:E53,$H$12:$K$15)","v":0.0324932181728563},0.00806623013668533,6.5093565050033508E-4,0.03346243433065855]
[{"$f":"'Raw TPD'!A29","v":160.67},{"$f":"'Raw TPD'!B29+B$29","v":0.20659300000000003},{"$f":"'Raw TPD'!C29+C$29","v":0.07251500000000011},{"$f":"'Raw TPD'!D29+D$29","v":0.005946000000000007},{"$f":"'Raw TPD'!E29+E$29","v":0.022087999999999997},null,160.67,{"$f":"MMULT(B54:E54,$H$12:$K$15)","v":0.03514857222482824},0.011927788421065549,0.001834598947588483,0.015088490014731136]
[{"$f":"'Raw TPD'!A30","v":164},{"$f":"'Raw TPD'!B30+B$29","v":0.24615399999999998},{"$f":"'Raw TPD'!C30+C$29","v":0.046142000000000016},{"$f":"'Raw TPD'!D30+D$29","v":0.023529000000000022},{"$f":"'Raw TPD'!E30+E$29","v":0.014762000000000053},null,164,{"$f":"MMULT(B55:E55,$H$12:$K$15)","v":0.04169093423870257},4.66152758802301E-3,0.008409346394005436,0.013550122389931293]
[{"$f":"'Raw TPD'!A31","v":165.64},{"$f":"'Raw TPD'!B31+B$29","v":0.24859600000000004},{"$f":"'Raw TPD'!C31+C$29","v":0.07544600000000012},{"$f":"'Raw TPD'!D31+D$29","v":0.025971000000000077},{"$f":"'Raw TPD'!E31+E$29","v":0.016716000000000064},null,165.64,{"$f":"MMULT(B56:E56,$H$12:$K$15)","v":0.042995006254397894},0.012734936122874779,9.833919087478403E-3,-0.007197646945027288]
[{"$f":"'Raw TPD'!A32","v":167.27},{"$f":"'Raw TPD'!B32+B$29","v":0.3409040000000001},{"$f":"'Raw TPD'!C32+C$29","v":0.07544600000000012},{"$f":"'Raw TPD'!D32+D$29","v":0.030366000000000004},{"$f":"'Raw TPD'!E32+E$29","v":0.02111099999999999},null,167.27,{"$f":"MMULT(B57:E57,$H$12:$K$15)","v":0.05823519708642419},0.009913127841432305,0.011025002006785814,0.01057827763800244]
[{"$f":"'Raw TPD'!A33","v":168.88},{"$f":"'Raw TPD'!B33+B$29","v":0.344322},{"$f":"'Raw TPD'!C33+C$29","v":0.07300400000000007},{"$f":"'Raw TPD'!D33+D$29","v":0.03280800000000006},{"$f":"'Raw TPD'!E33+E$29","v":0.012808000000000042},null,168.88,{"$f":"MMULT(B58:E58,$H$12:$K$15)","v":0.0603365984294076},0.011778682285178593,0.012596568907620271,-0.016071199425350298]
[{"$f":"'Raw TPD'!A34","v":172.08},{"$f":"'Raw TPD'!B34+B$29","v":0.4092800000000001},{"$f":"'Raw TPD'!C34+C$29","v":0.07886400000000005},{"$f":"'Raw TPD'!D34+D$29","v":0.03964600000000007},{"$f":"'Raw TPD'!E34+E$29","v":0.026971999999999996},null,172.08,{"$f":"MMULT(B59:E59,$H$12:$K$15)","v":0.06889778808555741},0.007540679986483147,0.014019080821480932,0.028875710301736773]
[{"$f":"'Raw TPD'!A35","v":173.66},{"$f":"'Raw TPD'!B35+B$29","v":0.443468},{"$f":"'Raw TPD'!C35+C$29","v":0.09400500000000012},{"$f":"'Raw TPD'!D35+D$29","v":0.045507000000000075},{"$f":"'Raw TPD'!E35+E$29","v":0.02746000000000004},null,173.66,{"$f":"MMULT(B60:E60,$H$12:$K$15)","v":0.07531315144475978},0.011195938691050159,0.01649603453245635,0.01690547921929099]
[{"$f":"'Raw TPD'!A36","v":176.79},{"$f":"'Raw TPD'!B36+B$29","v":0.501587},{"$f":"'Raw TPD'!C36+C$29","v":0.09009800000000001},{"$f":"'Raw TPD'!D36+D$29","v":0.03427400000000003},{"$f":"'Raw TPD'!E36+E$29","v":0.02746000000000004},null,176.79,{"$f":"MMULT(B61:E61,$H$12:$K$15)","v":0.08587578886282676},0.010187940063348186,0.012148498767162584,0.02379907934824889]
[{"$f":"'Raw TPD'!A37","v":178.34},{"$f":"'Raw TPD'!B37+B$29","v":0.5763130000000001},{"$f":"'Raw TPD'!C37+C$29","v":0.10133100000000006},{"$f":"'Raw TPD'!D37+D$29","v":0.035739000000000076},{"$f":"'Raw TPD'!E37+E$29","v":0.03234400000000004},null,178.34,{"$f":"MMULT(B62:E62,$H$12:$K$15)","v":0.09855387478218196},0.011032657562507223,0.01247493015397212,0.03255877441515036]
[{"$f":"'Raw TPD'!A38","v":179.88},{"$f":"'Raw TPD'!B38+B$29","v":0.5968250000000002},{"$f":"'Raw TPD'!C38+C$29","v":0.11354100000000011},{"$f":"'Raw TPD'!D38+D$29","v":0.03964600000000007},{"$f":"'Raw TPD'!E38+E$29","v":0.02111099999999999},null,179.88,{"$f":"MMULT(B63:E63,$H$12:$K$15)","v":0.10491091726191387},0.018073849439049626,0.015174025331212402,-0.01749444986509388]
[{"$f":"'Raw TPD'!A39","v":182.93},{"$f":"'Raw TPD'!B39+B$29","v":0.697436},{"$f":"'Raw TPD'!C39+C$29","v":0.12770500000000007},{"$f":"'Raw TPD'!D39+D$29","v":0.05136800000000008},{"$f":"'Raw TPD'!E39+E$29","v":0.03136800000000006},null,182.93,{"$f":"MMULT(B64:E64,$H$12:$K$15)","v":0.1207725083601173},0.016955571007475592,0.01892659865382412,0.00679775554049554]
[{"$f":"'Raw TPD'!A40","v":185.94},{"$f":"'Raw TPD'!B40+B$29","v":0.651526},{"$f":"'Raw TPD'!C40+C$29","v":0.14821700000000004},{"$f":"'Raw TPD'!D40+D$29","v":0.06846200000000002},{"$f":"'Raw TPD'!E40+E$29","v":0.037717},null,185.94,{"$f":"MMULT(B65:E65,$H$12:$K$15)","v":0.11159712721128473},0.020310437748446666,0.025297775386467936,6.134092692556381E-3]
[{"$f":"'Raw TPD'!A41","v":188.93},{"$f":"'Raw TPD'!B41+B$29","v":0.6852259999999999},{"$f":"'Raw TPD'!C41+C$29","v":0.12477400000000005},{"$f":"'Raw TPD'!D41+D$29","v":0.06406600000000007},{"$f":"'Raw TPD'!E41+E$29","v":0.045043000000000055},null,188.93,{"$f":"MMULT(B66:E66,$H$12:$K$15)","v":0.11512842864724346},0.010615661796058126,0.022446773390919942,0.054987754901872035]
[{"$f":"'Raw TPD'!A42","v":191.88},{"$f":"'Raw TPD'!B42+B$29","v":0.712088},{"$f":"'Raw TPD'!C42+C$29","v":0.14235700000000007},{"$f":"'Raw TPD'!D42+D$29","v":0.06406600000000007},{"$f":"'Raw TPD'!E42+E$29","v":0.046507999999999994},null,191.88,{"$f":"MMULT(B67:E67,$H$12:$K$15)","v":0.12040377370810111},0.015190171985731384,0.02270627397718889,0.044569000020327626]
[{"$f":"'Raw TPD'!A43","v":194.81},{"$f":"'Raw TPD'!B43+B$29","v":0.6251530000000001},{"$f":"'Raw TPD'!C43+C$29","v":0.16091600000000006},{"$f":"'Raw TPD'!D43+D$29","v":0.08457900000000007},{"$f":"'Raw TPD'!E43+E$29","v":0.04797300000000004},null,194.81,{"$f":"MMULT(B68:E68,$H$12:$K$15)","v":0.10474537837896533},0.019809472658178662,0.030768372417319313,0.027045943244942056]
[{"$f":"'Raw TPD'!A44","v":197.72},{"$f":"'Raw TPD'!B44+B$29","v":0.5362640000000001},{"$f":"'Raw TPD'!C44+C$29","v":0.146752},{"$f":"'Raw TPD'!D44+D$29","v":0.09630000000000005},{"$f":"'Raw TPD'!E44+E$29","v":0.057253},null,197.72,{"$f":"MMULT(B69:E69,$H$12:$K$15)","v":0.08595666495458677},0.012444180690597082,0.03410439728043728,0.06804733306901145]
[{"$f":"'Raw TPD'!A45","v":200.6},{"$f":"'Raw TPD'!B45+B$29","v":0.5147740000000001},{"$f":"'Raw TPD'!C45+C$29","v":0.19461499999999998},{"$f":"'Raw TPD'!D45+D$29","v":0.10020800000000007},{"$f":"'Raw TPD'!E45+E$29","v":0.07434700000000005},null,200.6,{"$f":"MMULT(B70:E70,$H$12:$K$15)","v":0.08071539581881301},0.021182721684681046,0.03522302250756657,0.0814637232036714]
[{"$f":"'Raw TPD'!A46","v":204.89},{"$f":"'Raw TPD'!B46+B$29","v":0.46104999999999996},{"$f":"'Raw TPD'!C46+C$29","v":0.20536},{"$f":"'Raw TPD'!D46+D$29","v":0.11681300000000006},{"$f":"'Raw TPD'!E46+E$29","v":0.0953480000000001},null,204.89,{"$f":"MMULT(B71:E71,$H$12:$K$15)","v":0.06669713658350053},0.016691098015764287,0.039927015070884184,0.1404377531242032]
[{"$f":"'Raw TPD'!A47","v":207.73},{"$f":"'Raw TPD'!B47+B$29","v":0.46935300000000013},{"$f":"'Raw TPD'!C47+C$29","v":0.20536},{"$f":"'Raw TPD'!D47+D$29","v":0.13244200000000006},{"$f":"'Raw TPD'!E47+E$29","v":0.1051160000000001},null,207.73,{"$f":"MMULT(B72:E72,$H$12:$K$15)","v":0.06550382189777305},0.01213840245198964,0.04493335645960116,0.17270553915929743]
[{"$f":"'Raw TPD'!A48","v":210.55},{"$f":"'Raw TPD'!B48+B$29","v":0.5255190000000001},{"$f":"'Raw TPD'!C48+C$29","v":0.24687400000000004},{"$f":"'Raw TPD'!D48+D$29","v":0.13683800000000002},{"$f":"'Raw TPD'!E48+E$29","v":0.12758199999999997},null,210.55,{"$f":"MMULT(B73:E73,$H$12:$K$15)","v":0.07257300048051053},0.0162291976357217,0.04555973881421077,0.21316869536974686]
[{"$f":"'Raw TPD'!A49","v":213.36},{"$f":"'Raw TPD'!B49+B$29","v":0.505495},{"$f":"'Raw TPD'!C49+C$29","v":0.22733800000000004},{"$f":"'Raw TPD'!D49+D$29","v":0.13488400000000011},{"$f":"'Raw TPD'!E49+E$29","v":0.111954},null,213.36,{"$f":"MMULT(B74:E74,$H$12:$K$15)","v":0.0714177670163376},0.01594660059019374,0.04573869853964759,0.17681941684101599]
[{"$f":"'Raw TPD'!A50","v":217.55},{"$f":"'Raw TPD'!B50+B$29","v":0.4097679999999999},{"$f":"'Raw TPD'!C50+C$29","v":0.1907080000000001},{"$f":"'Raw TPD'!D50+D$29","v":0.09532400000000008},{"$f":"'Raw TPD'!E50+E$29","v":0.09192900000000004},null,217.55,{"$f":"MMULT(B75:E75,$H$12:$K$15)","v":0.058532714569734745},0.015506620765047496,0.03187303774321356,0.14306758911575512]
[{"$f":"'Raw TPD'!A51","v":220.32},{"$f":"'Raw TPD'!B51+B$29","v":0.3316239999999999},{"$f":"'Raw TPD'!C51+C$29","v":0.1623810000000001},{"$f":"'Raw TPD'!D51+D$29","v":0.07432200000000011},{"$f":"'Raw TPD'!E51+E$29","v":0.08362600000000009},null,220.32,{"$f":"MMULT(B76:E76,$H$12:$K$15)","v":0.04596153269974727},0.012068412717507308,0.024127624760331597,0.14057745365235988]
[{"$f":"'Raw TPD'!A52","v":223.14},{"$f":"'Raw TPD'!B52+B$29","v":0.2891330000000001},{"$f":"'Raw TPD'!C52+C$29","v":0.18484699999999998},{"$f":"'Raw TPD'!D52+D$29","v":0.05820500000000006},{"$f":"'Raw TPD'!E52+E$29","v":0.08606800000000003},null,223.14,{"$f":"MMULT(B77:E77,$H$12:$K$15)","v":0.03966405173548148},0.0197297751506255,0.018435133327701546,0.12857449773855076]
[{"$f":"'Raw TPD'!A53","v":225.84},{"$f":"'Raw TPD'!B53+B$29","v":0.25299099999999997},{"$f":"'Raw TPD'!C53+C$29","v":0.19510400000000006},{"$f":"'Raw TPD'!D53+D$29","v":0.05429800000000007},{"$f":"'Raw TPD'!E53+E$29","v":0.05578800000000006},null,225.84,{"$f":"MMULT(B78:E78,$H$12:$K$15)","v":0.04015993203151918},0.03384369727197868,0.019851002840472847,0.013414960584001545]
[{"$f":"'Raw TPD'!A54","v":228.58},{"$f":"'Raw TPD'!B54+B$29","v":0.20512799999999998},{"$f":"'Raw TPD'!C54+C$29","v":0.1721490000000001},{"$f":"'Raw TPD'!D54+D$29","v":0.04648400000000008},{"$f":"'Raw TPD'!E54+E$29","v":0.0650670000000001},null,228.58,{"$f":"MMULT(B79:E79,$H$12:$K$15)","v":0.0290248663396612},0.02477095835624034,0.015629872130028925,0.06626334283913829]
[{"$f":"'Raw TPD'!A55","v":231.31},{"$f":"'Raw TPD'!B55+B$29","v":0.19926700000000008},{"$f":"'Raw TPD'!C55+C$29","v":0.14626400000000006},{"$f":"'Raw TPD'!D55+D$29","v":0.04746000000000006},{"$f":"'Raw TPD'!E55+E$29","v":0.05383400000000005},null,{"$f":"A80","v":231.31},{"$f":"MMULT(B80:E80,$H$12:$K$15)","v":0.029048925780427455},0.020687362747970492,0.01636843447703367,0.05117777995193257]
[{"$f":"'Raw TPD'!A56","v":234.03},{"$f":"'Raw TPD'!B56+B$29","v":0.1611720000000001},{"$f":"'Raw TPD'!C56+C$29","v":0.138938},{"$f":"'Raw TPD'!D56+D$29","v":0.03329700000000002},{"$f":"'Raw TPD'!E56+E$29","v":0.06750900000000004},null,234.03,{"$f":"MMULT(B81:E81,$H$12:$K$15)","v":0.01973199814893649},0.015243810065706898,0.009744038941282292,0.10575425743209935]
[{"$f":"'Raw TPD'!A57","v":236.74},{"$f":"'Raw TPD'!B57+B$29","v":0.16947500000000004},{"$f":"'Raw TPD'!C57+C$29","v":0.14382200000000012},{"$f":"'Raw TPD'!D57+D$29","v":0.03769200000000006},{"$f":"'Raw TPD'!E57+E$29","v":0.04797300000000004},null,236.74,{"$f":"MMULT(B82:E82,$H$12:$K$15)","v":0.025277665599498532},0.022972656916587727,0.013182185666275669,0.033312247130126926]
[{"$f":"'Raw TPD'!A58","v":238.08},{"$f":"'Raw TPD'!B58+B$29","v":0.120147},{"$f":"'Raw TPD'!C58+C$29","v":0.15017100000000005},{"$f":"'Raw TPD'!D58+D$29","v":0.03671600000000008},{"$f":"'Raw TPD'!E58+E$29","v":0.05920599999999998},null,238.08,{"$f":"MMULT(B83:E83,$H$12:$K$15)","v":0.01457348306714308},0.02169588154016008,0.012035916357669015,0.06476694026672289]
[{"$f":"'Raw TPD'!A59","v":240.77},{"$f":"'Raw TPD'!B59+B$29","v":0.127961},{"$f":"'Raw TPD'!C59+C$29","v":0.12282100000000007},{"$f":"'Raw TPD'!D59+D$29","v":0.038669000000000064},{"$f":"'Raw TPD'!E59+E$29","v":0.046507999999999994},null,240.77,{"$f":"MMULT(B84:E84,$H$12:$K$15)","v":0.017209477540981573},0.017443629745585828,0.013221547500337757,0.046313988419276114]
[{"$f":"'Raw TPD'!A60","v":243.44},{"$f":"'Raw TPD'!B60+B$29","v":0.10012200000000004},{"$f":"'Raw TPD'!C60+C$29","v":0.15798500000000004},{"$f":"'Raw TPD'!D60+D$29","v":0.02792400000000006},{"$f":"'Raw TPD'!E60+E$29","v":0.036739999999999995},null,243.44,{"$f":"MMULT(B85:E85,$H$12:$K$15)","v":0.016396203891429702},0.03258483532926097,0.010877494703223235,-0.019947175398066286]
[{"$f":"'Raw TPD'!A61","v":246.09},{"$f":"'Raw TPD'!B61+B$29","v":0.12503100000000011},{"$f":"'Raw TPD'!C61+C$29","v":0.128193},{"$f":"'Raw TPD'!D61+D$29","v":0.027436000000000016},{"$f":"'Raw TPD'!E61+E$29","v":0.04113600000000006},null,246.09,{"$f":"MMULT(B86:E86,$H$12:$K$15)","v":0.01851674503756146},0.021761009670557767,0.009603336126074277,0.023925758520301585]
[{"$f":"'Raw TPD'!A62","v":247.42},{"$f":"'Raw TPD'!B62+B$29","v":0.11770500000000006},{"$f":"'Raw TPD'!C62+C$29","v":0.14040300000000006},{"$f":"'Raw TPD'!D62+D$29","v":0.020598000000000005},{"$f":"'Raw TPD'!E62+E$29","v":0.04895000000000005},null,247.42,{"$f":"MMULT(B87:E87,$H$12:$K$15)","v":0.016465725379414084},0.02340544129674479,0.006656864186073778,0.04016470655912746]
[{"$f":"'Raw TPD'!A63","v":250.04},{"$f":"'Raw TPD'!B63+B$29","v":0.138706},{"$f":"'Raw TPD'!C63+C$29","v":0.11109900000000006},{"$f":"'Raw TPD'!D63+D$29","v":0.024017000000000066},{"$f":"'Raw TPD'!E63+E$29","v":0.05188000000000004},null,250.04,{"$f":"MMULT(B88:E88,$H$12:$K$15)","v":0.01805845411772698},0.01298763981984917,0.006987551865035162,0.07791769377694743]
[{"$f":"'Raw TPD'!A64","v":252.65},{"$f":"'Raw TPD'!B64+B$29","v":0.10989000000000004},{"$f":"'Raw TPD'!C64+C$29","v":0.13844900000000004},{"$f":"'Raw TPD'!D64+D$29","v":0.024017000000000066},{"$f":"'Raw TPD'!E64+E$29","v":0.0455310000000001},null,252.65,{"$f":"MMULT(B89:E89,$H$12:$K$15)","v":0.015555141436068754},0.023809017914669186,0.008193875322979195,0.029484707181880954]
[{"$f":"'Raw TPD'!A65","v":255.24},{"$f":"'Raw TPD'!B65+B$29","v":0.0918190000000001},{"$f":"'Raw TPD'!C65+C$29","v":0.12917},{"$f":"'Raw TPD'!D65+D$29","v":0.023529000000000022},{"$f":"'Raw TPD'!E65+E$29","v":0.04943799999999998},null,255.24,{"$f":"MMULT(B90:E90,$H$12:$K$15)","v":0.011137037138738173},0.01988009419915962,0.007473657631753129,0.05111732791916575]
[{"$f":"'Raw TPD'!A66","v":257.8},{"$f":"'Raw TPD'!B66+B$29","v":0.11477400000000004},{"$f":"'Raw TPD'!C66+C$29","v":0.15212500000000007},{"$f":"'Raw TPD'!D66+D$29","v":0.02450500000000011},{"$f":"'Raw TPD'!E66+E$29","v":0.05041499999999999},null,257.8,{"$f":"MMULT(B91:E91,$H$12:$K$15)","v":0.016033789483699153},0.02623161395316665,0.008268856837492376,0.033757837420083786]
[{"$f":"'Raw TPD'!A67","v":260.33},{"$f":"'Raw TPD'!B67+B$29","v":0.08351700000000006},{"$f":"'Raw TPD'!C67+C$29","v":0.16189300000000006},{"$f":"'Raw TPD'!D67+D$29","v":0.019133000000000067},{"$f":"'Raw TPD'!E67+E$29","v":0.048462000000000005},null,260.33,{"$f":"MMULT(B92:E92,$H$12:$K$15)","v":0.011588685763542923},0.03060898491057848,0.00667721622183116,0.017481915869764858]
[{"$f":"'Raw TPD'!A68","v":262.84},{"$f":"'Raw TPD'!B68+B$29","v":0.0927960000000001},{"$f":"'Raw TPD'!C68+C$29","v":0.147729},{"$f":"'Raw TPD'!D68+D$29","v":0.012784000000000018},{"$f":"'Raw TPD'!E68+E$29","v":0.05774100000000004},null,262.84,{"$f":"MMULT(B93:E93,$H$12:$K$15)","v":0.010913900681838725},0.023489584485625672,0.003161659003006993,0.06386772062554041]
[{"$f":"'Raw TPD'!A69","v":265.31},{"$f":"'Raw TPD'!B69+B$29","v":0.08156300000000005},{"$f":"'Raw TPD'!C69+C$29","v":0.14724100000000007},{"$f":"'Raw TPD'!D69+D$29","v":0.01620300000000008},{"$f":"'Raw TPD'!E69+E$29","v":0.048462000000000005},null,265.31,{"$f":"MMULT(B94:E94,$H$12:$K$15)","v":0.010676246680761102},0.026372175020098795,0.005240959505403333,0.03141520791738972]
[{"$f":"'Raw TPD'!A70","v":269},{"$f":"'Raw TPD'!B70+B$29","v":0.10402900000000004},{"$f":"'Raw TPD'!C70+C$29","v":0.13063500000000006},{"$f":"'Raw TPD'!D70+D$29","v":0.017668000000000017},{"$f":"'Raw TPD'!E70+E$29","v":0.05578800000000006},null,269,{"$f":"MMULT(B95:E95,$H$12:$K$15)","v":0.01229868418577366},0.018459634814266126,4.7539080448251265E-3,0.07283563223015561]
[{"$f":"'Raw TPD'!A71","v":271.33},{"$f":"'Raw TPD'!B71+B$29","v":0.08595900000000012},{"$f":"'Raw TPD'!C71+C$29","v":0.16775300000000004},{"$f":"'Raw TPD'!D71+D$29","v":0.018645000000000023},{"$f":"'Raw TPD'!E71+E$29","v":0.042601},null,271.33,{"$f":"MMULT(B96:E96,$H$12:$K$15)","v":0.013524997954729303},0.03440093157321075,0.0071338857841328,-0.008136608348018048]
[{"$f":"'Raw TPD'!A72","v":273.68},{"$f":"'Raw TPD'!B72+B$29","v":0.09523800000000004},{"$f":"'Raw TPD'!C72+C$29","v":0.16531099999999999},{"$f":"'Raw TPD'!D72+D$29","v":0.01815600000000006},{"$f":"'Raw TPD'!E72+E$29","v":0.04895000000000005},null,273.68,{"$f":"MMULT(B97:E97,$H$12:$K$15)","v":0.013762395692308263},0.03142936253985924,0.006338693281427183,0.016491269745685655]
[{"$f":"'Raw TPD'!A73","v":276.06},{"$f":"'Raw TPD'!B73+B$29","v":0.08058600000000005},{"$f":"'Raw TPD'!C73+C$29","v":0.17654500000000006},{"$f":"'Raw TPD'!D73+D$29","v":0.013272000000000062},{"$f":"'Raw TPD'!E73+E$29","v":0.054811000000000054},null,276.06,{"$f":"MMULT(B98:E98,$H$12:$K$15)","v":0.010691517520342942},0.03337821868976874,0.004276192829751215,0.02640360131297445]
[{"$f":"'Raw TPD'!A74","v":279.64},{"$f":"'Raw TPD'!B74+B$29","v":0.07179500000000005},{"$f":"'Raw TPD'!C74+C$29","v":0.16335800000000011},{"$f":"'Raw TPD'!D74+D$29","v":0.007411000000000056},{"$f":"'Raw TPD'!E74+E$29","v":0.054811000000000054},null,279.64,{"$f":"MMULT(B99:E99,$H$12:$K$15)","v":0.00875984728978769},0.02987638176450558,1.7814503451683327E-3,0.03908803838055583]
[{"$f":"'Raw TPD'!A75","v":282.02},{"$f":"'Raw TPD'!B75+B$29","v":0.09328500000000006},{"$f":"'Raw TPD'!C75+C$29","v":0.1828940000000001},{"$f":"'Raw TPD'!D75+D$29","v":0.009365000000000068},{"$f":"'Raw TPD'!E75+E$29","v":0.057253},null,282.02,{"$f":"MMULT(B100:E100,$H$12:$K$15)","v":0.012894194994130486},0.03463068655446233,0.002738574690385836,0.029824389296450232]
[{"$f":"'Raw TPD'!A76","v":285.59},{"$f":"'Raw TPD'!B76+B$29","v":0.079121},{"$f":"'Raw TPD'!C76+C$29","v":0.1721490000000001},{"$f":"'Raw TPD'!D76+D$29","v":0.017668000000000017},{"$f":"'Raw TPD'!E76+E$29","v":0.06653200000000004},null,285.59,{"$f":"MMULT(B101:E101,$H$12:$K$15)","v":7.626232605123991E-3},0.027743521265131865,0.004811477632374228,0.07052425625243791]
[{"$f":"'Raw TPD'!A77","v":287.97},{"$f":"'Raw TPD'!B77+B$29","v":0.08840100000000006},{"$f":"'Raw TPD'!C77+C$29","v":0.17947500000000005},{"$f":"'Raw TPD'!D77+D$29","v":0.010830000000000006},{"$f":"'Raw TPD'!E77+E$29","v":0.07385800000000009},null,287.97,{"$f":"MMULT(B102:E102,$H$12:$K$15)","v":0.008383994044315063},0.027882577450088902,0.001779965590646992,0.09017750091282975]
[{"$f":"'Raw TPD'!A78","v":291.6},{"$f":"'Raw TPD'!B78+B$29","v":0.08742400000000006},{"$f":"'Raw TPD'!C78+C$29","v":0.18484699999999998},{"$f":"'Raw TPD'!D78+D$29","v":0.008877000000000024},{"$f":"'Raw TPD'!E78+E$29","v":0.05383400000000005},null,291.6,{"$f":"MMULT(B103:E103,$H$12:$K$15)","v":0.012674567022271144},0.03648970992778732,2.9008166456025355E-3,0.016026913781032853]
[{"$f":"'Raw TPD'!A79","v":293.93},{"$f":"'Raw TPD'!B79+B$29","v":0.07277200000000006},{"$f":"'Raw TPD'!C79+C$29","v":0.2209890000000001},{"$f":"'Raw TPD'!D79+D$29","v":0.010830000000000006},{"$f":"'Raw TPD'!E79+E$29","v":0.06262500000000004},null,293.93,{"$f":"MMULT(B104:E104,$H$12:$K$15)","v":0.009885990687088503},0.044544921160152545,3.7253707645319607E-3,0.012070934976254222]
[{"$f":"'Raw TPD'!A80","v":297.56},{"$f":"'Raw TPD'!B80+B$29","v":0.07033},{"$f":"'Raw TPD'!C80+C$29","v":0.19608100000000006},{"$f":"'Raw TPD'!D80+D$29","v":0.012295000000000056},{"$f":"'Raw TPD'!E80+E$29","v":0.05920599999999998},null,297.56,{"$f":"MMULT(B105:E105,$H$12:$K$15)","v":0.008928742672367497},0.03802722301390374,3.993028482958497E-3,0.023190348967786545]
[{"$f":"'Raw TPD'!A81","v":301.09},{"$f":"'Raw TPD'!B81+B$29","v":0.080098},{"$f":"'Raw TPD'!C81+C$29","v":0.17947500000000005},{"$f":"'Raw TPD'!D81+D$29","v":0.013272000000000062},{"$f":"'Raw TPD'!E81+E$29","v":0.05627599999999999},null,301.09,{"$f":"MMULT(B106:E106,$H$12:$K$15)","v":0.010440625955623587},0.03377910341427258,0.004218249686448781,0.028729975275415542]
[{"$f":"'Raw TPD'!A82","v":303.47},{"$f":"'Raw TPD'!B82+B$29","v":0.08156300000000005},{"$f":"'Raw TPD'!C82+C$29","v":0.1721490000000001},{"$f":"'Raw TPD'!D82+D$29","v":0.011807000000000012},{"$f":"'Raw TPD'!E82+E$29","v":0.06262500000000004},null,303.47,{"$f":"MMULT(B107:E107,$H$12:$K$15)","v":0.009106816283995888},0.029473282308240794,2.950492415641914E-3,0.0577638119690039]
[{"$f":"'Raw TPD'!A83","v":305.86},{"$f":"'Raw TPD'!B83+B$29","v":0.08400500000000011},{"$f":"'Raw TPD'!C83+C$29","v":0.18387100000000012},{"$f":"'Raw TPD'!D83+D$29","v":0.013761000000000023},{"$f":"'Raw TPD'!E83+E$29","v":0.067021},null,305.86,{"$f":"MMULT(B108:E108,$H$12:$K$15)","v":0.009101659667510278},0.031385543932125864,3.5734999326529314E-3,0.06191470419647219]
[{"$f":"'Raw TPD'!A84","v":308.25},{"$f":"'Raw TPD'!B84+B$29","v":0.07814399999999999},{"$f":"'Raw TPD'!C84+C$29","v":0.19022000000000006},{"$f":"'Raw TPD'!D84+D$29","v":0.005458000000000074},{"$f":"'Raw TPD'!E84+E$29","v":0.063114},null,308.25,{"$f":"MMULT(B109:E109,$H$12:$K$15)","v":9.51281187536843E-3},0.03532112688187122,9.5182227506966557E-4,0.043247732538248845]
[{"$f":"'Raw TPD'!A85","v":311.83},{"$f":"'Raw TPD'!B85+B$29","v":0.08595900000000012},{"$f":"'Raw TPD'!C85+C$29","v":0.19901100000000005},{"$f":"'Raw TPD'!D85+D$29","v":0.010830000000000006},{"$f":"'Raw TPD'!E85+E$29","v":0.06457900000000005},null,311.83,{"$f":"MMULT(B110:E110,$H$12:$K$15)","v":0.010783450442481366},0.03702906139030004,3.0357659352054124E-3,0.03975805424324541]
[{"$f":"'Raw TPD'!A86","v":314.21},{"$f":"'Raw TPD'!B86+B$29","v":0.09230800000000006},{"$f":"'Raw TPD'!C86+C$29","v":0.178987},{"$f":"'Raw TPD'!D86+D$29","v":0.015714000000000006},{"$f":"'Raw TPD'!E86+E$29","v":0.06409000000000009},null,314.21,{"$f":"MMULT(B111:E111,$H$12:$K$15)","v":0.010864705310820351},0.0306599292723122,0.004437783616283134,0.0563636130178862]
[{"$f":"'Raw TPD'!A87","v":316.6},{"$f":"'Raw TPD'!B87+B$29","v":0.07570200000000005},{"$f":"'Raw TPD'!C87+C$29","v":0.17556800000000006},{"$f":"'Raw TPD'!D87+D$29","v":0.012784000000000018},{"$f":"'Raw TPD'!E87+E$29","v":0.061648000000000036},null,316.6,{"$f":"MMULT(B112:E112,$H$12:$K$15)","v":0.008391670521382068},0.030841935845870236,3.4850302175635636E-3,0.050884607682895905]
[{"$f":"'Raw TPD'!A88","v":318.99},{"$f":"'Raw TPD'!B88+B$29","v":0.06495700000000004},{"$f":"'Raw TPD'!C88+C$29","v":0.1828940000000001},{"$f":"'Raw TPD'!D88+D$29","v":0.007900000000000018},{"$f":"'Raw TPD'!E88+E$29","v":0.05090400000000006},null,318.99,{"$f":"MMULT(B113:E113,$H$12:$K$15)","v":0.009253378651645749},0.037206887732595895,0.002760770777727198,0.007067561312147086]
[{"$f":"'Raw TPD'!A89","v":321.38},{"$f":"'Raw TPD'!B89+B$29","v":0.07472500000000004},{"$f":"'Raw TPD'!C89+C$29","v":0.17947500000000005},{"$f":"'Raw TPD'!D89+D$29","v":6.9230000000000125E-3},{"$f":"'Raw TPD'!E89+E$29","v":0.0552990000000001},null,321.38,{"$f":"MMULT(B114:E114,$H$12:$K$15)","v":0.009954641781719033},0.034632379107247264,1.9281898839951777E-3,0.025912973314223597]
[{"$f":"'Raw TPD'!A90","v":324.96},{"$f":"'Raw TPD'!B90+B$29","v":0.0820510000000001},{"$f":"'Raw TPD'!C90+C$29","v":0.177033},{"$f":"'Raw TPD'!D90+D$29","v":5.7400000000007445E-4},{"$f":"'Raw TPD'!E90+E$29","v":0.05383400000000005},null,324.96,{"$f":"MMULT(B115:E115,$H$12:$K$15)","v":0.011701002836325882},0.03476809702339073,-0.000386989028305011,0.024104484867769477]
[{"$f":"'Raw TPD'!A91","v":327.4},{"$f":"'Raw TPD'!B91+B$29","v":0.07521400000000011},{"$f":"'Raw TPD'!C91+C$29","v":0.1721490000000001},{"$f":"'Raw TPD'!D91+D$29","v":0.010830000000000006},{"$f":"'Raw TPD'!E91+E$29","v":0.061648000000000036},null,327.4,{"$f":"MMULT(B116:E116,$H$12:$K$15)","v":0.008225698076554535},0.029946115274298676,0.002673969635186911,0.05428390569174937]
[{"$f":"'Raw TPD'!A92","v":329.74},{"$f":"'Raw TPD'!B92+B$29","v":0.06886400000000004},{"$f":"'Raw TPD'!C92+C$29","v":0.1526130000000001},{"$f":"'Raw TPD'!D92+D$29","v":6.4350000000000795E-3},{"$f":"'Raw TPD'!E92+E$29","v":0.05139199999999999},null,329.74,{"$f":"MMULT(B117:E117,$H$12:$K$15)","v":0.008482364013564366},0.027863897263139408,1.463686340698358E-3,0.037278861843604405]
[{"$f":"'Raw TPD'!A93","v":332.13},{"$f":"'Raw TPD'!B93+B$29","v":0.07521400000000011},{"$f":"'Raw TPD'!C93+C$29","v":0.16384600000000005},{"$f":"'Raw TPD'!D93+D$29","v":0.009853},{"$f":"'Raw TPD'!E93+E$29","v":0.04406600000000005},null,332.13,{"$f":"MMULT(B118:E118,$H$12:$K$15)","v":0.011502728881931573},0.033467188568330225,3.6316495128377907E-3,1.2516837383036161E-3]
[{"$f":"'Raw TPD'!A94","v":334.52},{"$f":"'Raw TPD'!B94+B$29","v":0.10305300000000006},{"$f":"'Raw TPD'!C94+C$29","v":0.15456700000000012},{"$f":"'Raw TPD'!D94+D$29","v":0.009853},{"$f":"'Raw TPD'!E94+E$29","v":0.045043000000000055},null,334.52,{"$f":"MMULT(B119:E119,$H$12:$K$15)","v":0.015789972986371848},0.029999550032440786,3.3089265035427264E-3,0.014208771723433766]
[{"$f":"'Raw TPD'!A95","v":336.92},{"$f":"'Raw TPD'!B95+B$29","v":0.08840100000000006},{"$f":"'Raw TPD'!C95+C$29","v":0.15798500000000004},{"$f":"'Raw TPD'!D95+D$29","v":3.0160000000000187E-3},{"$f":"'Raw TPD'!E95+E$29","v":0.052369},null,336.92,{"$f":"MMULT(B120:E120,$H$12:$K$15)","v":0.012130722979486667},0.029206749903345777,2.0691817421281122E-4,0.036707315095038134]
[{"$f":"'Raw TPD'!A96","v":339.31},{"$f":"'Raw TPD'!B96+B$29","v":0.08400500000000011},{"$f":"'Raw TPD'!C96+C$29","v":0.17752100000000004},{"$f":"'Raw TPD'!D96+D$29","v":0.004481000000000068},{"$f":"'Raw TPD'!E96+E$29","v":0.05139199999999999},null,339.31,{"$f":"MMULT(B121:E121,$H$12:$K$15)","v":0.012411456566295076},0.03544239990929404,1.2971782679511712E-3,0.014799857600170413]
[{"$f":"'Raw TPD'!A97","v":341.7},{"$f":"'Raw TPD'!B97+B$29","v":0.07033},{"$f":"'Raw TPD'!C97+C$29","v":0.15652},{"$f":"'Raw TPD'!D97+D$29","v":6.9230000000000125E-3},{"$f":"'Raw TPD'!E97+E$29","v":0.05627599999999999},null,341.7,{"$f":"MMULT(B122:E122,$H$12:$K$15)","v":0.007897583637808214},0.027342501206657592,1.3147493847454365E-3,0.05054215156768338]
[{"$f":"'Raw TPD'!A98","v":345.29},{"$f":"'Raw TPD'!B98+B$29","v":0.08449300000000004},{"$f":"'Raw TPD'!C98+C$29","v":0.15017100000000005},{"$f":"'Raw TPD'!D98+D$29","v":0.004481000000000068},{"$f":"'Raw TPD'!E98+E$29","v":0.067998},null,345.29,{"$f":"MMULT(B123:E123,$H$12:$K$15)","v":0.007788070949894563},0.02143893249820324,-7.7033349085354249E-4,0.09780891179695667]
[{"$f":"'Raw TPD'!A99","v":347.69},{"$f":"'Raw TPD'!B99+B$29","v":0.08644700000000005},{"$f":"'Raw TPD'!C99+C$29","v":0.168242},{"$f":"'Raw TPD'!D99+D$29","v":0.003993000000000024},{"$f":"'Raw TPD'!E99+E$29","v":0.04699600000000004},null,347.69,{"$f":"MMULT(B124:E124,$H$12:$K$15)","v":0.013334584782256135},0.03411572295277012,1.2760938225989601E-3,0.008362800256848019]
[{"$f":"'Raw TPD'!A100","v":350.08},{"$f":"'Raw TPD'!B100+B$29","v":0.08937700000000004},{"$f":"'Raw TPD'!C100+C$29","v":0.169219},{"$f":"'Raw TPD'!D100+D$29","v":0.008877000000000024},{"$f":"'Raw TPD'!E100+E$29","v":0.05041499999999999},null,350.08,{"$f":"MMULT(B125:E125,$H$12:$K$15)","v":0.012991280980907644},0.03286277700476114,2.831340820420504E-3,0.01881631631446068]
[{"$f":"'Raw TPD'!A101","v":353.67},{"$f":"'Raw TPD'!B101+B$29","v":0.10647099999999998},{"$f":"'Raw TPD'!C101+C$29","v":0.16189300000000006},{"$f":"'Raw TPD'!D101+D$29","v":2.039000000000013E-3},{"$f":"'Raw TPD'!E101+E$29","v":0.038694000000000006},null,353.67,{"$f":"MMULT(B126:E126,$H$12:$K$15)","v":0.0183718532470881},0.034927659786387386,1.0960717376883831E-3,-0.013573626483309537]
[{"$f":"'Raw TPD'!A102","v":356.12},{"$f":"'Raw TPD'!B102+B$29","v":0.09621500000000005},{"$f":"'Raw TPD'!C102+C$29","v":0.146752},{"$f":"'Raw TPD'!D102+D$29","v":0.00155100000000008},{"$f":"'Raw TPD'!E102+E$29","v":0.05139199999999999},null,356.12,{"$f":"MMULT(B127:E127,$H$12:$K$15)","v":0.013247605059940161},0.026132725670105546,-5.2491780850137584E-4,0.04422431201296689]
[{"$f":"'Raw TPD'!A103","v":359.67},{"$f":"'Raw TPD'!B103+B$29","v":0.09572700000000012},{"$f":"'Raw TPD'!C103+C$29","v":0.166288},{"$f":"'Raw TPD'!D103+D$29","v":0.005946000000000007},{"$f":"'Raw TPD'!E103+E$29","v":0.052369},null,359.67,{"$f":"MMULT(B128:E128,$H$12:$K$15)","v":0.013695254196801685},0.03144746004245057,1.4913526068825438E-3,0.028869574440089002]
[{"$f":"'Raw TPD'!A104","v":362.06},{"$f":"'Raw TPD'!B104+B$29","v":0.1025640000000001},{"$f":"'Raw TPD'!C104+C$29","v":0.15505500000000005},{"$f":"'Raw TPD'!D104+D$29","v":2.527000000000057E-3},{"$f":"'Raw TPD'!E104+E$29","v":0.041623999999999994},null,362.06,{"$f":"MMULT(B129:E129,$H$12:$K$15)","v":0.01673501675270842},0.03185074827558497,8.7071617657915028E-4,2.7578132089872143E-3]
[{"$f":"'Raw TPD'!A105","v":364.46},{"$f":"'Raw TPD'!B105+B$29","v":0.07570200000000005},{"$f":"'Raw TPD'!C105+C$29","v":0.147729},{"$f":"'Raw TPD'!D105+D$29","v":3.5040000000000626E-3},{"$f":"'Raw TPD'!E105+E$29","v":0.03918200000000005},null,364.46,{"$f":"MMULT(B130:E130,$H$12:$K$15)","v":0.012102451215100762},0.030667792194427633,1.2996141320450764E-3,1.1996992237026105E-4]
[{"$f":"'Raw TPD'!A106","v":366.86},{"$f":"'Raw TPD'!B106+B$29","v":0.08791199999999999},{"$f":"'Raw TPD'!C106+C$29","v":0.1799630000000001},{"$f":"'Raw TPD'!D106+D$29","v":0.007411000000000056},{"$f":"'Raw TPD'!E106+E$29","v":0.044554000000000094},null,366.86,{"$f":"MMULT(B131:E131,$H$12:$K$15)","v":0.014506351264883867},0.03825897446864747,3.0381861633785078E-3,-0.01136896685803182]
[{"$f":"'Raw TPD'!A107","v":370.46},{"$f":"'Raw TPD'!B107+B$29","v":0.089866},{"$f":"'Raw TPD'!C107+C$29","v":0.16482300000000005},{"$f":"'Raw TPD'!D107+D$29","v":0.007411000000000056},{"$f":"'Raw TPD'!E107+E$29","v":0.04064699999999999},null,370.46,{"$f":"MMULT(B132:E132,$H$12:$K$15)","v":0.014946817679997691},0.03494704010831387,3.0221269134865277E-3,-0.010724199959383646]
[{"$f":"'Raw TPD'!A108","v":372.86},{"$f":"'Raw TPD'!B108+B$29","v":0.08156300000000005},{"$f":"'Raw TPD'!C108+C$29","v":0.14919400000000005},{"$f":"'Raw TPD'!D108+D$29","v":6.4350000000000795E-3},{"$f":"'Raw TPD'!E108+E$29","v":0.037717},null,372.86,{"$f":"MMULT(B133:E133,$H$12:$K$15)","v":0.013388817865046268},0.031336210578406735,2.553275320522028E-3,-0.006467322570211542]
[{"$f":"'Raw TPD'!A109","v":375.26},{"$f":"'Raw TPD'!B109+B$29","v":0.0732600000000001},{"$f":"'Raw TPD'!C109+C$29","v":0.14479900000000012},{"$f":"'Raw TPD'!D109+D$29","v":0.005946000000000007},{"$f":"'Raw TPD'!E109+E$29","v":0.038205000000000044},null,375.26,{"$f":"MMULT(B134:E134,$H$12:$K$15)","v":0.01163324934905899},0.029954980245318334,2.2328403844145426E-3,-9.0060647873299593E-4]
[{"$f":"'Raw TPD'!A110","v":378.86},{"$f":"'Raw TPD'!B110+B$29","v":0.0732600000000001},{"$f":"'Raw TPD'!C110+C$29","v":0.14333300000000004},{"$f":"'Raw TPD'!D110+D$29","v":2.527000000000057E-3},{"$f":"'Raw TPD'!E110+E$29","v":0.02746000000000004},null,378.86,{"$f":"MMULT(B135:E135,$H$12:$K$15)","v":0.013922297453455412},0.033413420214830326,1.8445771676867057E-3,-0.03634197882204748]
[{"$f":"'Raw TPD'!A111","v":381.26},{"$f":"'Raw TPD'!B111+B$29","v":0.07423700000000011},{"$f":"'Raw TPD'!C111+C$29","v":0.13551900000000006},{"$f":"'Raw TPD'!D111+D$29","v":3.5040000000000626E-3},{"$f":"'Raw TPD'!E111+E$29","v":0.034785999999999984},null,381.26,{"$f":"MMULT(B136:E136,$H$12:$K$15)","v":0.01217658790540088},0.028453706549990902,0.001396574987724585,-3.7729360743145035E-3]
[{"$f":"'Raw TPD'!A112","v":383.67},{"$f":"'Raw TPD'!B112+B$29","v":0.06739899999999999},{"$f":"'Raw TPD'!C112+C$29","v":0.15456700000000012},{"$f":"'Raw TPD'!D112+D$29","v":0.007411000000000056},{"$f":"'Raw TPD'!E112+E$29","v":0.04602000000000006},null,383.67,{"$f":"MMULT(B137:E137,$H$12:$K$15)","v":0.009382608963058394},0.030233413135426754,2.339271657075365E-3,0.016691928992049604]
[{"$f":"'Raw TPD'!A113","v":386.07},{"$f":"'Raw TPD'!B113+B$29","v":0.07423700000000011},{"$f":"'Raw TPD'!C113+C$29","v":0.15896200000000005},{"$f":"'Raw TPD'!D113+D$29","v":-1.3799999999999368E-3},{"$f":"'Raw TPD'!E113+E$29","v":0.029901999999999984},null,386.07,{"$f":"MMULT(B138:E138,$H$12:$K$15)","v":0.01448726070107063},0.037625662031620946,5.3207785843268794E-4,-0.041959543868415966]
[{"$f":"'Raw TPD'!A114","v":388.47},{"$f":"'Raw TPD'!B114+B$29","v":0.04639800000000005},{"$f":"'Raw TPD'!C114+C$29","v":0.12428600000000012},{"$f":"'Raw TPD'!D114+D$29","v":3.5040000000000626E-3},{"$f":"'Raw TPD'!E114+E$29","v":0.026971999999999996},null,388.47,{"$f":"MMULT(B139:E139,$H$12:$K$15)","v":8.336212733096416E-3},0.02798850048718382,1.8328810889496486E-3,-0.021290300436932766]
[{"$f":"'Raw TPD'!A115","v":392.08},{"$f":"'Raw TPD'!B115+B$29","v":0.035653000000000046},{"$f":"'Raw TPD'!C115+C$29","v":0.11500600000000005},{"$f":"'Raw TPD'!D115+D$29","v":3.0160000000000187E-3},{"$f":"'Raw TPD'!E115+E$29","v":0.043089000000000044},null,392.08,{"$f":"MMULT(B140:E140,$H$12:$K$15)","v":2.6955130663915902E-3},0.019823908274604528,5.3448251309885005E-5,0.04286901796979743]
[{"$f":"'Raw TPD'!A116","v":394.49},{"$f":"'Raw TPD'!B116+B$29","v":0.07570200000000005},{"$f":"'Raw TPD'!C116+C$29","v":0.13405400000000012},{"$f":"'Raw TPD'!D116+D$29","v":-8.9099999999997515E-4},{"$f":"'Raw TPD'!E116+E$29","v":0.038205000000000044},null,394.49,{"$f":"MMULT(B141:E141,$H$12:$K$15)","v":0.011843741617751197},0.027147001574961804,-5.8020987713694764E-4,0.009996486111916614]
[{"$f":"'Raw TPD'!A117","v":396.89},{"$f":"'Raw TPD'!B117+B$29","v":0.042002000000000095},{"$f":"'Raw TPD'!C117+C$29","v":0.126239},{"$f":"'Raw TPD'!D117+D$29","v":0.007411000000000056},{"$f":"'Raw TPD'!E117+E$29","v":0.035275000000000056},null,396.89,{"$f":"MMULT(B142:E142,$H$12:$K$15)","v":5.775894331580763E-3},0.025522169663349623,2.6295552232816523E-3,0.005037260438394184]
[{"$f":"'Raw TPD'!A118","v":399.3},{"$f":"'Raw TPD'!B118+B$29","v":0.05860799999999999},{"$f":"'Raw TPD'!C118+C$29","v":0.12917},{"$f":"'Raw TPD'!D118+D$29","v":0.004481000000000068},{"$f":"'Raw TPD'!E118+E$29","v":0.03722800000000004},null,399.3,{"$f":"MMULT(B143:E143,$H$12:$K$15)","v":0.008569569056521812},0.025784269529404116,0.001417591012038082,0.009965375785337682]
[{"$f":"'Raw TPD'!A119","v":401.7},{"$f":"'Raw TPD'!B119+B$29","v":0.04786299999999999},{"$f":"'Raw TPD'!C119+C$29","v":0.12428600000000012},{"$f":"'Raw TPD'!D119+D$29","v":0.003993000000000024},{"$f":"'Raw TPD'!E119+E$29","v":0.028926000000000007},null,{"$f":"A144","v":401.7},{"$f":"MMULT(B144:E144,$H$12:$K$15)","v":0.008172071849280867},0.027271915461672257,1.8463468150205112E-3,-0.014532431826942568]
[{"$f":"'Raw TPD'!A120","v":405.31},{"$f":"'Raw TPD'!B120+B$29","v":0.035653000000000046},{"$f":"'Raw TPD'!C120+C$29","v":0.11451800000000012},{"$f":"'Raw TPD'!D120+D$29","v":0.003993000000000024},{"$f":"'Raw TPD'!E120+E$29","v":0.03625200000000006},null,405.31,{"$f":"MMULT(B145:E145,$H$12:$K$15)","v":0.004042352781602437},0.02193074315665992,9.9786862063627572E-4,0.019533334484902104]
[{"$f":"'Raw TPD'!A121","v":407.72},{"$f":"'Raw TPD'!B121+B$29","v":0.037117999999999984},{"$f":"'Raw TPD'!C121+C$29","v":0.11354100000000011},{"$f":"'Raw TPD'!D121+D$29","v":0.004481000000000068},{"$f":"'Raw TPD'!E121+E$29","v":0.032833},null,407.72,{"$f":"MMULT(B146:E146,$H$12:$K$15)","v":0.004940620733654811},0.022744707458843293,1.4517062058250802E-3,0.008595676213889583]
[{"$f":"'Raw TPD'!A122","v":410.13},{"$f":"'Raw TPD'!B122+B$29","v":0.040537000000000045},{"$f":"'Raw TPD'!C122+C$29","v":0.08472500000000005},{"$f":"'Raw TPD'!D122+D$29","v":1.0620000000000074E-3},{"$f":"'Raw TPD'!E122+E$29","v":0.01769200000000004},null,410.13,{"$f":"MMULT(B147:E147,$H$12:$K$15)","v":0.007456701040387609},0.019315495858807378,8.0493491014272073E-4,-0.0164667896758793]
[{"$f":"'Raw TPD'!A123","v":412.54},{"$f":"'Raw TPD'!B123+B$29","v":0.03663000000000005},{"$f":"'Raw TPD'!C123+C$29","v":0.10523800000000005},{"$f":"'Raw TPD'!D123+D$29","v":1.0620000000000074E-3},{"$f":"'Raw TPD'!E123+E$29","v":0.025507000000000057},null,412.54,{"$f":"MMULT(B148:E148,$H$12:$K$15)","v":0.006117028364984368},0.0229583785661983,6.10260837085215E-4,-0.008650770921779433]
[{"$f":"'Raw TPD'!A124","v":416.15},{"$f":"'Raw TPD'!B124+B$29","v":0.040537000000000045},{"$f":"'Raw TPD'!C124+C$29","v":0.12086700000000006},{"$f":"'Raw TPD'!D124+D$29","v":5.7400000000007445E-4},{"$f":"'Raw TPD'!E124+E$29","v":0.02746000000000004},null,416.15,{"$f":"MMULT(B149:E149,$H$12:$K$15)","v":0.007159553609173468},0.027056208648441077,6.1850630279220234E-4,-0.01626540230613359]
[{"$f":"'Raw TPD'!A125","v":417.35},{"$f":"'Raw TPD'!B125+B$29","v":0.03174600000000005},{"$f":"'Raw TPD'!C125+C$29","v":0.09302800000000011},{"$f":"'Raw TPD'!D125+D$29","v":3.0160000000000187E-3},{"$f":"'Raw TPD'!E125+E$29","v":0.02746000000000004},null,417.35,{"$f":"MMULT(B150:E150,$H$12:$K$15)","v":0.004195872263188566},0.01847850552676463,8.9455685275751555E-4,0.009099135314661194]
[{"$f":"'Raw TPD'!A126","v":420.97},{"$f":"'Raw TPD'!B126+B$29","v":0.03174600000000005},{"$f":"'Raw TPD'!C126+C$29","v":0.079353},{"$f":"'Raw TPD'!D126+D$29","v":5.7400000000007445E-4},{"$f":"'Raw TPD'!E126+E$29","v":0.02257600000000004},null,420.97,{"$f":"MMULT(B151:E151,$H$12:$K$15)","v":0.004662148311943091},0.01614523429043031,8.3444388202543037E-5,0.005216934264704973]
[{"$f":"'Raw TPD'!A127","v":423.38},{"$f":"'Raw TPD'!B127+B$29","v":0.052259000000000055},{"$f":"'Raw TPD'!C127+C$29","v":0.067631},{"$f":"'Raw TPD'!D127+D$29","v":0.00155100000000008},{"$f":"'Raw TPD'!E127+E$29","v":0.034785999999999984},null,423.38,{"$f":"MMULT(B152:E152,$H$12:$K$15)","v":0.005181311437385865},0.008117769536832364,-8.9271028812012466E-4,0.058990905597659925]
[{"$f":"'Raw TPD'!A128","v":425.84},{"$f":"'Raw TPD'!B128+B$29","v":0.03956000000000004},{"$f":"'Raw TPD'!C128+C$29","v":0.08667900000000006},{"$f":"'Raw TPD'!D128+D$29","v":0.00155100000000008},{"$f":"'Raw TPD'!E128+E$29","v":0.028926000000000007},null,425.84,{"$f":"MMULT(B153:E153,$H$12:$K$15)","v":0.005038231892240608},0.01606350758846249,6.5375202936097943E-5,0.020524488120925027]
[{"$f":"'Raw TPD'!A129","v":428.2},{"$f":"'Raw TPD'!B129+B$29","v":0.02442000000000011},{"$f":"'Raw TPD'!C129+C$29","v":0.0813060000000001},{"$f":"'Raw TPD'!D129+D$29","v":-0.004798999999999998},{"$f":"'Raw TPD'!E129+E$29","v":0.02599499999999999},null,428.2,{"$f":"MMULT(B154:E154,$H$12:$K$15)","v":0.00297525816863435},0.016048626055322583,-2.1731438439399437E-3,0.015623237913409693]
[{"$f":"'Raw TPD'!A130","v":430.61},{"$f":"'Raw TPD'!B130+B$29","v":0.03174600000000005},{"$f":"'Raw TPD'!C130+C$29","v":0.088144},{"$f":"'Raw TPD'!D130+D$29","v":0.004969000000000001},{"$f":"'Raw TPD'!E130+E$29","v":0.024530000000000052},null,430.61,{"$f":"MMULT(B155:E155,$H$12:$K$15)","v":4.4899599724489E-3},0.017843045529549448,1.7656372873425773E-3,3.2751596574397968E-3]
[{"$f":"'Raw TPD'!A131","v":434.23},{"$f":"'Raw TPD'!B131+B$29","v":0.02979200000000004},{"$f":"'Raw TPD'!C131+C$29","v":0.08521400000000012},{"$f":"'Raw TPD'!D131+D$29","v":5.7400000000007445E-4},{"$f":"'Raw TPD'!E131+E$29","v":0.017203999999999997},null,434.23,{"$f":"MMULT(B156:E156,$H$12:$K$15)","v":0.005699807402236905},0.01978344730444028,6.8444386712286729E-4,-0.018912746306872223]
[{"$f":"'Raw TPD'!A132","v":436.69},{"$f":"'Raw TPD'!B132+B$29","v":0.026862000000000053},{"$f":"'Raw TPD'!C132+C$29","v":0.088144},{"$f":"'Raw TPD'!D132+D$29","v":3.0160000000000187E-3},{"$f":"'Raw TPD'!E132+E$29","v":0.019646000000000052},null,436.69,{"$f":"MMULT(B157:E157,$H$12:$K$15)","v":0.004714283985393208},0.019700661185928198,1.4592027876903515E-3,-0.013570977595328784]
[{"$f":"'Raw TPD'!A133","v":439.1},{"$f":"'Raw TPD'!B133+B$29","v":0.0332110000000001},{"$f":"'Raw TPD'!C133+C$29","v":0.07593400000000006},{"$f":"'Raw TPD'!D133+D$29","v":-1.3799999999999368E-3},{"$f":"'Raw TPD'!E133+E$29","v":0.029901999999999984},null,439.1,{"$f":"MMULT(B158:E158,$H$12:$K$15)","v":3.3305653082500207E-3},0.0127348177997576,-1.3611064943761185E-3,0.03405039507271376]
[{"$f":"'Raw TPD'!A134","v":441.46},{"$f":"'Raw TPD'!B134+B$29","v":0.00830300000000006},{"$f":"'Raw TPD'!C134+C$29","v":0.088144},{"$f":"'Raw TPD'!D134+D$29","v":0.003993000000000024},{"$f":"'Raw TPD'!E134+E$29","v":0.019646000000000052},null,441.46,{"$f":"MMULT(B159:E159,$H$12:$K$15)","v":1.3908432907686827E-3},0.019831811724879758,1.8406405012738342E-3,-0.014303327588456594]
[{"$f":"'Raw TPD'!A135","v":445.08},{"$f":"'Raw TPD'!B135+B$29","v":0.03858400000000006},{"$f":"'Raw TPD'!C135+C$29","v":0.06714300000000006},{"$f":"'Raw TPD'!D135+D$29","v":8.5000000000001741E-5},{"$f":"'Raw TPD'!E135+E$29","v":0.023065000000000002},null,445.08,{"$f":"MMULT(B160:E160,$H$12:$K$15)","v":0.005217692892791868},0.01221370569673742,-4.3102523970753467E-4,0.018573998430048783]
[{"$f":"'Raw TPD'!A136","v":447.5},{"$f":"'Raw TPD'!B136+B$29","v":0.027839000000000058},{"$f":"'Raw TPD'!C136+C$29","v":0.0822830000000001},{"$f":"'Raw TPD'!D136+D$29","v":-3.3329999999999194E-3},{"$f":"'Raw TPD'!E136+E$29","v":0.019646000000000052},null,447.5,{"$f":"MMULT(B161:E161,$H$12:$K$15)","v":4.8747942406878846E-3},0.018363593357662494,-1.0564296456649638E-3,-7.3314067635995295E-3]
[{"$f":"'Raw TPD'!A137","v":449.91},{"$f":"'Raw TPD'!B137+B$29","v":0.040049},{"$f":"'Raw TPD'!C137+C$29","v":0.04858400000000007},{"$f":"'Raw TPD'!D137+D$29","v":8.5000000000001741E-5},{"$f":"'Raw TPD'!E137+E$29","v":0.025507000000000057},null,449.91,{"$f":"MMULT(B162:E162,$H$12:$K$15)","v":0.00410151808768947},0.005702910339704888,-1.0736433576102413E-3,0.044374636298082845]
[{"$f":"'Raw TPD'!A138","v":452.32},{"$f":"'Raw TPD'!B138+B$29","v":0.020024000000000042},{"$f":"'Raw TPD'!C138+C$29","v":0.05444400000000005},{"$f":"'Raw TPD'!D138+D$29","v":-0.006263999999999936},{"$f":"'Raw TPD'!E138+E$29","v":0.027949},null,452.32,{"$f":"MMULT(B163:E163,$H$12:$K$15)","v":5.9368440141440142E-4},0.007340586327515308,-3.510428852351772E-3,0.04744856138546761]
[{"$f":"'Raw TPD'!A139","v":454.78},{"$f":"'Raw TPD'!B139+B$29","v":0.03467600000000004},{"$f":"'Raw TPD'!C139+C$29","v":0.07642199999999999},{"$f":"'Raw TPD'!D139+D$29","v":0.00155100000000008},{"$f":"'Raw TPD'!E139+E$29","v":0.022087999999999997},null,454.78,{"$f":"MMULT(B164:E164,$H$12:$K$15)","v":5.102985889601932E-3},0.015313794102465382,4.211259162860794E-4,0.00624136246553024]
[{"$f":"'Raw TPD'!A140","v":458.36},{"$f":"'Raw TPD'!B140+B$29","v":0.03614200000000001},{"$f":"'Raw TPD'!C140+C$29","v":0.062259000000000064},{"$f":"'Raw TPD'!D140+D$29","v":-8.9099999999997515E-4},{"$f":"'Raw TPD'!E140+E$29","v":0.010365999999999986},null,458.36,{"$f":"MMULT(B165:E165,$H$12:$K$15)","v":0.00721609784564196},0.015142845394264135,1.8725207306086622E-4,-0.020816538455726938]
[{"$f":"'Raw TPD'!A141","v":460.77},{"$f":"'Raw TPD'!B141+B$29","v":0.021001000000000047},{"$f":"'Raw TPD'!C141+C$29","v":0.05981700000000001},{"$f":"'Raw TPD'!D141+D$29","v":2.527000000000057E-3},{"$f":"'Raw TPD'!E141+E$29","v":0.02257600000000004},null,460.77,{"$f":"MMULT(B166:E166,$H$12:$K$15)","v":1.7630214231771687E-3},0.010158287024369855,3.7062510809086793E-4,0.02283609640650181]
[{"$f":"'Raw TPD'!A142","v":464.39},{"$f":"'Raw TPD'!B142+B$29","v":0.06788800000000006},{"$f":"'Raw TPD'!C142+C$29","v":0.09742400000000007},{"$f":"'Raw TPD'!D142+D$29","v":0.00155100000000008},{"$f":"'Raw TPD'!E142+E$29","v":0.03625200000000006},null,464.39,{"$f":"MMULT(B167:E167,$H$12:$K$15)","v":0.009042845667520068},0.016540543610654133,-3.4057316546722569E-4,0.036823012165774896]
[{"$f":"'Raw TPD'!A143","v":466.8},{"$f":"'Raw TPD'!B143+B$29","v":0.05909600000000004},{"$f":"'Raw TPD'!C143+C$29","v":0.12184400000000006},{"$f":"'Raw TPD'!D143+D$29","v":-8.9099999999997515E-4},{"$f":"'Raw TPD'!E143+E$29","v":0.033321000000000045},null,466.8,{"$f":"MMULT(B168:E168,$H$12:$K$15)","v":0.009340181292119786},0.025264023322513297,-4.2860721719241348E-4,0.003909752451456958]
[{"$f":"'Raw TPD'!A144","v":469.22},{"$f":"'Raw TPD'!B144+B$29","v":0.07765600000000006},{"$f":"'Raw TPD'!C144+C$29","v":0.117448},{"$f":"'Raw TPD'!D144+D$29","v":5.7400000000007445E-4},{"$f":"'Raw TPD'!E144+E$29","v":0.025507000000000057},null,469.22,{"$f":"MMULT(B169:E169,$H$12:$K$15)","v":0.013967943192988854},0.026272934427553494,6.7682305711315753E-4,-0.018606776472154044]
[{"$f":"'Raw TPD'!A145","v":471.63},{"$f":"'Raw TPD'!B145+B$29","v":0.08156300000000005},{"$f":"'Raw TPD'!C145+C$29","v":0.08863300000000007},{"$f":"'Raw TPD'!D145+D$29","v":2.039000000000013E-3},{"$f":"'Raw TPD'!E145+E$29","v":0.03381000000000001},null,471.63,{"$f":"MMULT(B170:E170,$H$12:$K$15)","v":0.011532484136403145},0.014504290940393402,-1.6249783436117016E-4,0.03695700260345612]
[{"$f":"'Raw TPD'!A146","v":474.04},{"$f":"'Raw TPD'!B146+B$29","v":0.07521400000000011},{"$f":"'Raw TPD'!C146+C$29","v":0.10084300000000002},{"$f":"'Raw TPD'!D146+D$29","v":0.00155100000000008},{"$f":"'Raw TPD'!E146+E$29","v":0.02599499999999999},null,474.04,{"$f":"MMULT(B171:E171,$H$12:$K$15)","v":0.012614988679942388},0.0209949252672527,0.000617385013042827,-1.6382938072406622E-3]
[{"$f":"'Raw TPD'!A147","v":476.46},{"$f":"'Raw TPD'!B147+B$29","v":0.07765600000000006},{"$f":"'Raw TPD'!C147+C$29","v":0.09107500000000002},{"$f":"'Raw TPD'!D147+D$29","v":5.7400000000007445E-4},{"$f":"'Raw TPD'!E147+E$29","v":0.021600000000000064},null,476.46,{"$f":"MMULT(B172:E172,$H$12:$K$15)","v":0.01353519688200211},0.019554276946138944,4.016502614087637E-4,-0.00755879407745523]
[{"$f":"'Raw TPD'!A148","v":480.08},{"$f":"'Raw TPD'!B148+B$29","v":0.06153800000000009},{"$f":"'Raw TPD'!C148+C$29","v":0.07495700000000005},{"$f":"'Raw TPD'!D148+D$29","v":-3.3329999999999194E-3},{"$f":"'Raw TPD'!E148+E$29","v":0.03087899999999999},null,480.08,{"$f":"MMULT(B173:E173,$H$12:$K$15)","v":0.008174924939237304},0.011937593234572927,-0.002223263979271785,0.039516120958823606]
[{"$f":"'Raw TPD'!A149","v":482.49},{"$f":"'Raw TPD'!B149+B$29","v":0.045421000000000045},{"$f":"'Raw TPD'!C149+C$29","v":0.07544600000000012},{"$f":"'Raw TPD'!D149+D$29","v":-4.309999999999925E-3},{"$f":"'Raw TPD'!E149+E$29","v":0.031855999999999995},null,482.49,{"$f":"MMULT(B174:E174,$H$12:$K$15)","v":0.005185832830766445},0.012001099634097645,-2.6488724592916473E-3,0.04202189426111354]
[{"$f":"'Raw TPD'!A150","v":484.9},{"$f":"'Raw TPD'!B150+B$29","v":0.04786299999999999},{"$f":"'Raw TPD'!C150+C$29","v":0.06665399999999999},{"$f":"'Raw TPD'!D150+D$29","v":0.003993000000000024},{"$f":"'Raw TPD'!E150+E$29","v":0.018181000000000003},null,484.9,{"$f":"MMULT(B175:E175,$H$12:$K$15)","v":0.007681664224480159},0.013341048389664087,1.435390721551761E-3,1.9671486421759116E-3]
[{"$f":"'Raw TPD'!A151","v":487.32},{"$f":"'Raw TPD'!B151+B$29","v":0.04346800000000006},{"$f":"'Raw TPD'!C151+C$29","v":0.08179500000000006},{"$f":"'Raw TPD'!D151+D$29","v":2.039000000000013E-3},{"$f":"'Raw TPD'!E151+E$29","v":0.02746000000000004},null,487.32,{"$f":"MMULT(B176:E176,$H$12:$K$15)","v":5.7823263658314545E-3},0.01499385203821448,2.5805349125394405E-4,0.02007218072428213]
[{"$f":"'Raw TPD'!A152","v":489.73},{"$f":"'Raw TPD'!B152+B$29","v":0.06886400000000004},{"$f":"'Raw TPD'!C152+C$29","v":0.04956000000000005},{"$f":"'Raw TPD'!D152+D$29","v":5.7400000000007445E-4},{"$f":"'Raw TPD'!E152+E$29","v":0.02111099999999999},null,489.73,{"$f":"MMULT(B177:E177,$H$12:$K$15)","v":0.010131040647460187},0.007147226497270195,-0.000512505069370179,0.029143860247848576]
[{"$f":"'Raw TPD'!A153","v":493.35},{"$f":"'Raw TPD'!B153+B$29","v":0.06495700000000004},{"$f":"'Raw TPD'!C153+C$29","v":0.07446900000000012},{"$f":"'Raw TPD'!D153+D$29","v":2.039000000000013E-3},{"$f":"'Raw TPD'!E153+E$29","v":0.02746000000000004},null,493.35,{"$f":"MMULT(B178:E178,$H$12:$K$15)","v":0.009239535492264804},0.012523936903908591,7.0193061873742319E-5,0.027614636769546938]
[{"$f":"'Raw TPD'!A154","v":495.81},{"$f":"'Raw TPD'!B154+B$29","v":0.05860799999999999},{"$f":"'Raw TPD'!C154+C$29","v":0.08765600000000007},{"$f":"'Raw TPD'!D154+D$29","v":-8.9099999999997515E-4},{"$f":"'Raw TPD'!E154+E$29","v":0.021600000000000064},null,495.81,{"$f":"MMULT(B179:E179,$H$12:$K$15)","v":0.01006581773334837},0.018825144087391176,-2.1081080197818663E-4,-0.004834611084756024]
[{"$f":"'Raw TPD'!A155","v":498.17},{"$f":"'Raw TPD'!B155+B$29","v":0.062027000000000054},{"$f":"'Raw TPD'!C155+C$29","v":0.09302800000000011},{"$f":"'Raw TPD'!D155+D$29","v":-2.8449999999999864E-3},{"$f":"'Raw TPD'!E155+E$29","v":0.02257600000000004},null,498.17,{"$f":"MMULT(B180:E180,$H$12:$K$15)","v":0.010802529868917285},0.020237356692704107,-9.0523951524650536E-4,-0.006117995581893854]
[{"$f":"'Raw TPD'!A156","v":500.63},{"$f":"'Raw TPD'!B156+B$29","v":0.06593400000000005},{"$f":"'Raw TPD'!C156+C$29","v":0.06518900000000005},{"$f":"'Raw TPD'!D156+D$29","v":3.0160000000000187E-3},{"$f":"'Raw TPD'!E156+E$29","v":0.017203999999999997},null,500.63,{"$f":"MMULT(B181:E181,$H$12:$K$15)","v":0.011051495593786358},0.013100646045092259,1.1046196433139805E-3,6.6527103709568269E-4]
[{"$f":"'Raw TPD'!A157","v":502.99},{"$f":"'Raw TPD'!B157+B$29","v":0.059585},{"$f":"'Raw TPD'!C157+C$29","v":0.05444400000000005},{"$f":"'Raw TPD'!D157+D$29","v":-2.8449999999999864E-3},{"$f":"'Raw TPD'!E157+E$29","v":0.01769200000000004},null,502.99,{"$f":"MMULT(B182:E182,$H$12:$K$15)","v":0.00956583362710257},0.010151344038496431,-1.377555282105779E-3,0.012845129983053115]
[{"$f":"'Raw TPD'!A158","v":506.61},{"$f":"'Raw TPD'!B158+B$29","v":0.045910000000000006},{"$f":"'Raw TPD'!C158+C$29","v":0.08472500000000005},{"$f":"'Raw TPD'!D158+D$29","v":-0.005286999999999931},{"$f":"'Raw TPD'!E158+E$29","v":0.01915800000000001},null,506.61,{"$f":"MMULT(B183:E183,$H$12:$K$15)","v":8.367719639273373E-3},0.019220206437073728,-1.7047431056644638E-3,-0.0104662842651123]
[{"$f":"'Raw TPD'!A159","v":509.01},{"$f":"'Raw TPD'!B159+B$29","v":0.03809499999999999},{"$f":"'Raw TPD'!C159+C$29","v":0.06421200000000005},{"$f":"'Raw TPD'!D159+D$29","v":3.0160000000000187E-3},{"$f":"'Raw TPD'!E159+E$29","v":0.029901999999999984},null,509.01,{"$f":"MMULT(B184:E184,$H$12:$K$15)","v":3.4619247254520638E-3},0.008784309046126784,9.8109412057538134E-6,0.04462102340532148]
[{"$f":"'Raw TPD'!A160","v":511.42},{"$f":"'Raw TPD'!B160+B$29","v":0.032234000000000096},{"$f":"'Raw TPD'!C160+C$29","v":0.057863},{"$f":"'Raw TPD'!D160+D$29","v":-2.3569999999999425E-3},{"$f":"'Raw TPD'!E160+E$29","v":0.013785000000000047},null,511.42,{"$f":"MMULT(B185:E185,$H$12:$K$15)","v":0.005673837448848085},0.012787005598005056,-7.5570242153846312E-4,-4.838216209872799E-3]
[{"$f":"'Raw TPD'!A161","v":515.04},{"$f":"'Raw TPD'!B161+B$29","v":0.03663000000000005},{"$f":"'Raw TPD'!C161+C$29","v":0.07398000000000005},{"$f":"'Raw TPD'!D161+D$29","v":2.527000000000057E-3},{"$f":"'Raw TPD'!E161+E$29","v":0.013785000000000047},null,515.04,{"$f":"MMULT(B186:E186,$H$12:$K$15)","v":0.007006129763682017},0.017302029212376866,1.4446400294335143E-3,-0.02028480118173278]
[{"$f":"'Raw TPD'!A162","v":517.44},{"$f":"'Raw TPD'!B162+B$29","v":0.040537000000000045},{"$f":"'Raw TPD'!C162+C$29","v":0.07007300000000005},{"$f":"'Raw TPD'!D162+D$29","v":8.5000000000001741E-5},{"$f":"'Raw TPD'!E162+E$29","v":0.01915800000000001},null,517.44,{"$f":"MMULT(B187:E187,$H$12:$K$15)","v":0.006506646108016234},0.014416277005742571,-2.7654125992041022E-5,2.3789492375908966E-3]
[{"$f":"'Raw TPD'!A163","v":519.85},{"$f":"'Raw TPD'!B163+B$29","v":0.050305000000000044},{"$f":"'Raw TPD'!C163+C$29","v":0.046142000000000016},{"$f":"'Raw TPD'!D163+D$29","v":0.00155100000000008},{"$f":"'Raw TPD'!E163+E$29","v":0.024042000000000008},null,519.85,{"$f":"MMULT(B188:E188,$H$12:$K$15)","v":0.0060425147721165},5.2377639781461625E-3,-4.6320410638673172E-4,0.04174655292806549]
[{"$f":"'Raw TPD'!A164","v":522.26},{"$f":"'Raw TPD'!B164+B$29","v":0.02442000000000011},{"$f":"'Raw TPD'!C164+C$29","v":0.06567800000000013},{"$f":"'Raw TPD'!D164+D$29","v":-2.3569999999999425E-3},{"$f":"'Raw TPD'!E164+E$29","v":0.010365999999999986},null,522.26,{"$f":"MMULT(B189:E189,$H$12:$K$15)","v":0.005363835247773577},0.016420718764794312,-2.7293737290855821E-4,-0.024220872639939134]
[{"$f":"'Raw TPD'!A165","v":525.86},{"$f":"'Raw TPD'!B165+B$29","v":0.03956000000000004},{"$f":"'Raw TPD'!C165+C$29","v":0.04467600000000005},{"$f":"'Raw TPD'!D165+D$29","v":1.0620000000000074E-3},{"$f":"'Raw TPD'!E165+E$29","v":0.014762000000000053},null,525.86,{"$f":"MMULT(B190:E190,$H$12:$K$15)","v":0.006007311992265551},0.008101417295776226,1.2886651221972415E-4,0.01067685197207386]
[{"$f":"'Raw TPD'!A166","v":528.27},{"$f":"'Raw TPD'!B166+B$29","v":0.04444400000000004},{"$f":"'Raw TPD'!C166+C$29","v":0.06274700000000011},{"$f":"'Raw TPD'!D166+D$29","v":-0.004798999999999998},{"$f":"'Raw TPD'!E166+E$29","v":0.01622699999999999},null,528.27,{"$f":"MMULT(B191:E191,$H$12:$K$15)","v":7.660535416620394E-3},0.01349107152720036,-1.7780281134186524E-3,-2.4036380453467537E-4]
[{"$f":"'Raw TPD'!A167","v":530.67},{"$f":"'Raw TPD'!B167+B$29","v":0.03174600000000005},{"$f":"'Raw TPD'!C167+C$29","v":0.04711799999999999},{"$f":"'Raw TPD'!D167+D$29","v":3.5040000000000626E-3},{"$f":"'Raw TPD'!E167+E$29","v":0.016716000000000064},null,530.67,{"$f":"MMULT(B192:E192,$H$12:$K$15)","v":0.004235575205966188},0.008089021853702728,9.3843726255256549E-4,0.014620951697517322]
[{"$f":"'Raw TPD'!A168","v":533.12},{"$f":"'Raw TPD'!B168+B$29","v":0.04688599999999998},{"$f":"'Raw TPD'!C168+C$29","v":0.07495700000000005},{"$f":"'Raw TPD'!D168+D$29","v":8.5000000000001741E-5},{"$f":"'Raw TPD'!E168+E$29","v":0.012808000000000042},null,533.12,{"$f":"MMULT(B193:E193,$H$12:$K$15)","v":0.009168897211331998},0.017998689732048073,6.2813784690937094E-4,-0.023950609077406086]
[{"$f":"'Raw TPD'!A169","v":535.47},{"$f":"'Raw TPD'!B169+B$29","v":0.030281000000000002},{"$f":"'Raw TPD'!C169+C$29","v":0.062259000000000064},{"$f":"'Raw TPD'!D169+D$29","v":3.5040000000000626E-3},{"$f":"'Raw TPD'!E169+E$29","v":0.020623000000000058},null,535.47,{"$f":"MMULT(B194:E194,$H$12:$K$15)","v":3.8816569686470088E-3},0.011395931741569998,9.5411435374532171E-4,0.013991528185449943]
[{"$f":"'Raw TPD'!A170","v":539.12},{"$f":"'Raw TPD'!B170+B$29","v":0.04346800000000006},{"$f":"'Raw TPD'!C170+C$29","v":0.06470100000000012},{"$f":"'Raw TPD'!D170+D$29","v":2.039000000000013E-3},{"$f":"'Raw TPD'!E170+E$29","v":0.028926000000000007},null,539.12,{"$f":"MMULT(B195:E195,$H$12:$K$15)","v":0.004677118887590874},0.009278272848037747,-2.651650037873406E-4,0.04107901283862625]
[{"$f":"'Raw TPD'!A171","v":541.52},{"$f":"'Raw TPD'!B171+B$29","v":0.060562000000000005},{"$f":"'Raw TPD'!C171+C$29","v":0.08033000000000001},{"$f":"'Raw TPD'!D171+D$29","v":5.7400000000007445E-4},{"$f":"'Raw TPD'!E171+E$29","v":0.03087899999999999},null,541.52,{"$f":"MMULT(B196:E196,$H$12:$K$15)","v":0.008092809748068792},0.013303502209310335,-6.3390398369792943E-4,0.034017936061903065]
[{"$f":"'Raw TPD'!A172","v":543.87},{"$f":"'Raw TPD'!B172+B$29","v":0.07423700000000011},{"$f":"'Raw TPD'!C172+C$29","v":0.067631},{"$f":"'Raw TPD'!D172+D$29","v":-2.8449999999999864E-3},{"$f":"'Raw TPD'!E172+E$29","v":0.021600000000000064},null,543.87,{"$f":"MMULT(B197:E197,$H$12:$K$15)","v":0.01197094098121022},0.012685943176358922,-1.4206800998014977E-3,0.01457655923083645]
[{"$f":"'Raw TPD'!A173","v":546.27},{"$f":"'Raw TPD'!B173+B$29","v":0.08254000000000006},{"$f":"'Raw TPD'!C173+C$29","v":0.04028100000000001},{"$f":"'Raw TPD'!D173+D$29","v":-0.003821999999999992},{"$f":"'Raw TPD'!E173+E$29","v":0.018181000000000003},null,546.27,{"$f":"MMULT(B198:E198,$H$12:$K$15)","v":0.012900867912882929},0.005483676480790564,-0.002133556380581733,0.02861592035469953]
[{"$f":"'Raw TPD'!A174","v":548.66},{"$f":"'Raw TPD'!B174+B$29","v":0.05421200000000004},{"$f":"'Raw TPD'!C174+C$29","v":0.07446900000000012},{"$f":"'Raw TPD'!D174+D$29","v":-2.8449999999999864E-3},{"$f":"'Raw TPD'!E174+E$29","v":0.02599499999999999},null,548.66,{"$f":"MMULT(B199:E199,$H$12:$K$15)","v":0.007843258646048207},0.013495195324546776,-1.624431478187866E-3,0.022757025019781676]
[{"$f":"'Raw TPD'!A175","v":552.25},{"$f":"'Raw TPD'!B175+B$29","v":0.0429790000000001},{"$f":"'Raw TPD'!C175+C$29","v":0.04858400000000007},{"$f":"'Raw TPD'!D175+D$29","v":3.5040000000000626E-3},{"$f":"'Raw TPD'!E175+E$29","v":0.021600000000000064},null,552.25,{"$f":"MMULT(B200:E200,$H$12:$K$15)","v":0.005284087945965775},0.006751771016246744,5.4190569346068067E-4,0.030541398277475096]
[{"$f":"'Raw TPD'!A176","v":554.65},{"$f":"'Raw TPD'!B176+B$29","v":0.0527470000000001},{"$f":"'Raw TPD'!C176+C$29","v":0.06567800000000013},{"$f":"'Raw TPD'!D176+D$29","v":2.527000000000057E-3},{"$f":"'Raw TPD'!E176+E$29","v":0.02746000000000004},null,554.65,{"$f":"MMULT(B201:E201,$H$12:$K$15)","v":6.646575403293959E-3},0.009938703384333615,5.9102710648293363E-5,0.035343488184420103]
[{"$f":"'Raw TPD'!A177","v":557.04},{"$f":"'Raw TPD'!B177+B$29","v":0.04688599999999998},{"$f":"'Raw TPD'!C177+C$29","v":0.06518900000000005},{"$f":"'Raw TPD'!D177+D$29","v":-2.8449999999999864E-3},{"$f":"'Raw TPD'!E177+E$29","v":0.019646000000000052},null,557.04,{"$f":"MMULT(B202:E202,$H$12:$K$15)","v":7.421059660900611E-3},0.012903827532757485,-1.2861553927573323E-3,0.00917549263458562]
[{"$f":"'Raw TPD'!A178","v":559.48},{"$f":"'Raw TPD'!B178+B$29","v":0.055189000000000044},{"$f":"'Raw TPD'!C178+C$29","v":0.055421000000000054},{"$f":"'Raw TPD'!D178+D$29","v":-1.8679999999999808E-3},{"$f":"'Raw TPD'!E178+E$29","v":0.019646000000000052},null,559.48,{"$f":"MMULT(B203:E203,$H$12:$K$15)","v":8.390590704805332E-3},0.009761267232579912,-0.001153714381677254,0.0184401744285348]
[{"$f":"'Raw TPD'!A179","v":561.82},{"$f":"'Raw TPD'!B179+B$29","v":0.04444400000000004},{"$f":"'Raw TPD'!C179+C$29","v":0.05639800000000006},{"$f":"'Raw TPD'!D179+D$29","v":-1.8679999999999808E-3},{"$f":"'Raw TPD'!E179+E$29","v":0.005481999999999987},null,561.82,{"$f":"MMULT(B204:E204,$H$12:$K$15)","v":0.00945726176758749},0.01499706832435065,9.9522856078667482E-5,-0.03187636541569547]
[{"$f":"'Raw TPD'!A180","v":564.25},{"$f":"'Raw TPD'!B180+B$29","v":0.043956000000000106},{"$f":"'Raw TPD'!C180+C$29","v":0.05639800000000006},{"$f":"'Raw TPD'!D180+D$29","v":-8.9099999999997515E-4},{"$f":"'Raw TPD'!E180+E$29","v":0.01915800000000001},null,564.25,{"$f":"MMULT(B205:E205,$H$12:$K$15)","v":0.006509617763798248},0.010276810729437688,-7.1358199207048091E-4,0.015351276995068927]
[{"$f":"'Raw TPD'!A181","v":567.78},{"$f":"'Raw TPD'!B181+B$29","v":0.05128200000000005},{"$f":"'Raw TPD'!C181+C$29","v":0.055421000000000054},{"$f":"'Raw TPD'!D181+D$29","v":1.0620000000000074E-3},{"$f":"'Raw TPD'!E181+E$29","v":0.019646000000000052},null,567.78,{"$f":"MMULT(B206:E206,$H$12:$K$15)","v":7.5781173347879965E-3},0.009590546660924655,-5.2692084287747588E-5,0.017966294130358926]
[{"$f":"'Raw TPD'!A182","v":570.16},{"$f":"'Raw TPD'!B182+B$29","v":0.03174600000000005},{"$f":"'Raw TPD'!C182+C$29","v":0.03393200000000007},{"$f":"'Raw TPD'!D182+D$29","v":-8.9099999999997515E-4},{"$f":"'Raw TPD'!E182+E$29","v":0.018181000000000003},null,570.16,{"$f":"MMULT(B207:E207,$H$12:$K$15)","v":3.4961367510879466E-3},3.8863579927694387E-3,-0.001140660153515785,0.032498146462052034]
[{"$f":"'Raw TPD'!A183","v":572.55},{"$f":"'Raw TPD'!B183+B$29","v":0.06007300000000004},{"$f":"'Raw TPD'!C183+C$29","v":0.06274700000000011},{"$f":"'Raw TPD'!D183+D$29","v":2.039000000000013E-3},{"$f":"'Raw TPD'!E183+E$29","v":0.013785000000000047},null,{"$f":"A208","v":572.55},{"$f":"MMULT(B208:E208,$H$12:$K$15)","v":0.010645707253169448},0.013654028619395363,9.8163391453027658E-4,-0.00897903328487211]
[{"$f":"'Raw TPD'!A184","v":574.93},{"$f":"'Raw TPD'!B184+B$29","v":0.045421000000000045},{"$f":"'Raw TPD'!C184+C$29","v":0.05981700000000001},{"$f":"'Raw TPD'!D184+D$29","v":-0.005286999999999931},{"$f":"'Raw TPD'!E184+E$29","v":0.008901000000000048},null,574.93,{"$f":"MMULT(B209:E209,$H$12:$K$15)","v":0.009227048112461151},0.015115099522687159,-1.3978150681847844E-3,-0.022789215919147177]
[{"$f":"'Raw TPD'!A185","v":577.35},{"$f":"'Raw TPD'!B185+B$29","v":0.03516500000000011},{"$f":"'Raw TPD'!C185+C$29","v":0.05297900000000011},{"$f":"'Raw TPD'!D185+D$29","v":1.0620000000000074E-3},{"$f":"'Raw TPD'!E185+E$29","v":0.007924000000000042},null,577.35,{"$f":"MMULT(B210:E210,$H$12:$K$15)","v":0.007030243912898065},0.01301040420955242,9.1501496356084365E-4,-0.02088642167132332]
[{"$f":"'Raw TPD'!A186","v":580.87},{"$f":"'Raw TPD'!B186+B$29","v":0.04493300000000011},{"$f":"'Raw TPD'!C186+C$29","v":0.07446900000000012},{"$f":"'Raw TPD'!D186+D$29","v":0.00155100000000008},{"$f":"'Raw TPD'!E186+E$29","v":0.00939000000000001},null,580.87,{"$f":"MMULT(B211:E211,$H$12:$K$15)","v":0.009444796333394566},0.018927598680089645,1.4625003766693314E-3,-0.03556904497373764]
[{"$f":"'Raw TPD'!A187","v":583.24},{"$f":"'Raw TPD'!B187+B$29","v":0.04639800000000005},{"$f":"'Raw TPD'!C187+C$29","v":0.06616600000000006},{"$f":"'Raw TPD'!D187+D$29","v":8.5000000000001741E-5},{"$f":"'Raw TPD'!E187+E$29","v":0.018669000000000047},null,583.24,{"$f":"MMULT(B212:E212,$H$12:$K$15)","v":0.007460791555061621},0.013326507466621739,-8.1023099542936339E-5,4.5216736980671565E-3]
[{"$f":"'Raw TPD'!A188","v":585.66},{"$f":"'Raw TPD'!B188+B$29","v":0.042002000000000095},{"$f":"'Raw TPD'!C188+C$29","v":0.055421000000000054},{"$f":"'Raw TPD'!D188+D$29","v":1.0620000000000074E-3},{"$f":"'Raw TPD'!E188+E$29","v":0.01573900000000006},null,585.66,{"$f":"MMULT(B213:E213,$H$12:$K$15)","v":0.006742410734620617},0.011021387336681654,2.919816085673343E-4,0.004127902581401166]
[{"$f":"'Raw TPD'!A189","v":587.98},{"$f":"'Raw TPD'!B189+B$29","v":0.03272300000000006},{"$f":"'Raw TPD'!C189+C$29","v":0.046142000000000016},{"$f":"'Raw TPD'!D189+D$29","v":-2.3569999999999425E-3},{"$f":"'Raw TPD'!E189+E$29","v":0.013785000000000047},null,587.98,{"$f":"MMULT(B214:E214,$H$12:$K$15)","v":0.005209857910899618},0.009204731114633286,-1.0281683104496958E-3,0.006101085897160283]
[{"$f":"'Raw TPD'!A190","v":591.58},{"$f":"'Raw TPD'!B190+B$29","v":0.03760700000000006},{"$f":"'Raw TPD'!C190+C$29","v":0.067631},{"$f":"'Raw TPD'!D190+D$29","v":1.0620000000000074E-3},{"$f":"'Raw TPD'!E190+E$29","v":0.014274000000000009},null,591.58,{"$f":"MMULT(B215:E215,$H$12:$K$15)","v":0.006840583681398697},0.015294057638216367,7.0539285752610134E-4,-0.01247025054843591]
[{"$f":"'Raw TPD'!A191","v":593.95},{"$f":"'Raw TPD'!B191+B$29","v":0.01660600000000001},{"$f":"'Raw TPD'!C191+C$29","v":0.042723000000000066},{"$f":"'Raw TPD'!D191+D$29","v":-1.3799999999999368E-3},{"$f":"'Raw TPD'!E191+E$29","v":0.021600000000000064},null,593.95,{"$f":"MMULT(B216:E216,$H$12:$K$15)","v":5.4587063260462271E-4},0.005606141199317318,-1.4021624601693364E-3,0.035698761460531]
[{"$f":"'Raw TPD'!A192","v":596.26},{"$f":"'Raw TPD'!B192+B$29","v":0.03418800000000011},{"$f":"'Raw TPD'!C192+C$29","v":0.04956000000000005},{"$f":"'Raw TPD'!D192+D$29","v":-0.004798999999999998},{"$f":"'Raw TPD'!E192+E$29","v":0.018669000000000047},null,596.26,{"$f":"MMULT(B217:E217,$H$12:$K$15)","v":4.72328273063298E-3},0.008747419103535364,-2.2862382811745584E-3,0.02016389516954572]
[{"$f":"'Raw TPD'!A193","v":598.62},{"$f":"'Raw TPD'!B193+B$29","v":0.049817},{"$f":"'Raw TPD'!C193+C$29","v":0.057863},{"$f":"'Raw TPD'!D193+D$29","v":8.5000000000001741E-5},{"$f":"'Raw TPD'!E193+E$29","v":0.013785000000000047},null,598.62,{"$f":"MMULT(B218:E218,$H$12:$K$15)","v":8.68302906525684E-3},0.012417590231078638,1.4466612246065804E-4,-0.004539580140584615]
[{"$f":"'Raw TPD'!A194","v":601.03},{"$f":"'Raw TPD'!B194+B$29","v":0.042002000000000095},{"$f":"'Raw TPD'!C194+C$29","v":0.04663000000000006},{"$f":"'Raw TPD'!D194+D$29","v":3.0160000000000187E-3},{"$f":"'Raw TPD'!E194+E$29","v":0.022087999999999997},null,601.03,{"$f":"MMULT(B219:E219,$H$12:$K$15)","v":0.004939046549189685},0.006035551091319064,2.7243130198380196E-4,0.03407701190542673]
[{"$f":"'Raw TPD'!A195","v":604.56},{"$f":"'Raw TPD'!B195+B$29","v":0.03516500000000011},{"$f":"'Raw TPD'!C195+C$29","v":0.04370000000000007},{"$f":"'Raw TPD'!D195+D$29","v":-2.3569999999999425E-3},{"$f":"'Raw TPD'!E195+E$29","v":0.008901000000000048},null,604.56,{"$f":"MMULT(B220:E220,$H$12:$K$15)","v":0.006534533748152188},0.010095087278468423,-6.6562731217057315E-4,-0.008454664630762707]
[{"$f":"'Raw TPD'!A196","v":606.92},{"$f":"'Raw TPD'!B196+B$29","v":0.042491000000000057},{"$f":"'Raw TPD'!C196+C$29","v":0.03539700000000001},{"$f":"'Raw TPD'!D196+D$29","v":-0.00675199999999998},{"$f":"'Raw TPD'!E196+E$29","v":0.012808000000000042},null,606.92,{"$f":"MMULT(B221:E221,$H$12:$K$15)","v":0.006816658279767981},0.006471638269767543,-2.848080446505849E-3,0.01357218509105602]
[{"$f":"'Raw TPD'!A197","v":609.22},{"$f":"'Raw TPD'!B197+B$29","v":0.03370000000000006},{"$f":"'Raw TPD'!C197+C$29","v":0.04663000000000006},{"$f":"'Raw TPD'!D197+D$29","v":-3.3329999999999194E-3},{"$f":"'Raw TPD'!E197+E$29","v":0.021600000000000064},null,609.22,{"$f":"MMULT(B222:E222,$H$12:$K$15)","v":3.8340768313096874E-3},0.006754325296941229,-2.0573769290176437E-3,0.03285587968742599]
[{"$f":"'Raw TPD'!A198","v":611.56},{"$f":"'Raw TPD'!B198+B$29","v":0.04346800000000006},{"$f":"'Raw TPD'!C198+C$29","v":0.03637400000000002},{"$f":"'Raw TPD'!D198+D$29","v":-0.003821999999999992},{"$f":"'Raw TPD'!E198+E$29","v":0.010365999999999986},null,611.56,{"$f":"MMULT(B223:E223,$H$12:$K$15)","v":0.007417715715728333},0.0073769450009125,-1.5178055942927132E-3,3.8939858007075584E-3]
[{"$f":"'Raw TPD'!A199","v":613.96},{"$f":"'Raw TPD'!B199+B$29","v":0.028816000000000064},{"$f":"'Raw TPD'!C199+C$29","v":0.038327},{"$f":"'Raw TPD'!D199+D$29","v":-4.0299999999993119E-4},{"$f":"'Raw TPD'!E199+E$29","v":0.013297000000000003},null,613.96,{"$f":"MMULT(B224:E224,$H$12:$K$15)","v":0.004171428654844923},0.006886212561120555,-4.3213069722094989E-4,0.011334799634692895]
[{"$f":"'Raw TPD'!A200","v":617.47},{"$f":"'Raw TPD'!B200+B$29","v":0.05128200000000005},{"$f":"'Raw TPD'!C200+C$29","v":0.039304000000000006},{"$f":"'Raw TPD'!D200+D$29","v":-3.3329999999999194E-3},{"$f":"'Raw TPD'!E200+E$29","v":0.01769200000000004},null,617.47,{"$f":"MMULT(B225:E225,$H$12:$K$15)","v":0.007406237593277761},0.005657030458497796,-1.904931511966694E-3,0.026735309958066972]
[{"$f":"'Raw TPD'!A201","v":620.98},{"$f":"'Raw TPD'!B201+B$29","v":0.035653000000000046},{"$f":"'Raw TPD'!C201+C$29","v":0.031001000000000056},{"$f":"'Raw TPD'!D201+D$29","v":8.5000000000001741E-5},{"$f":"'Raw TPD'!E201+E$29","v":0.012808000000000042},null,620.98,{"$f":"MMULT(B226:E226,$H$12:$K$15)","v":0.005117437356179461},0.004706889234663732,-3.8282941831868211E-4,0.016638972168317258]
[{"$f":"'Raw TPD'!A202","v":624.43},{"$f":"'Raw TPD'!B202+B$29","v":0.03858400000000006},{"$f":"'Raw TPD'!C202+C$29","v":0.035885000000000056},{"$f":"'Raw TPD'!D202+D$29","v":8.5000000000001741E-5},{"$f":"'Raw TPD'!E202+E$29","v":0.011832000000000065},null,624.43,{"$f":"MMULT(B227:E227,$H$12:$K$15)","v":0.006066605622194457},0.006497583096074451,-1.8771429230494659E-4,0.008805245467168765]
[{"$f":"'Raw TPD'!A203","v":626.81},{"$f":"'Raw TPD'!B203+B$29","v":0.040537000000000045},{"$f":"'Raw TPD'!C203+C$29","v":0.05444400000000005},{"$f":"'Raw TPD'!D203+D$29","v":-0.007728999999999986},{"$f":"'Raw TPD'!E203+E$29","v":0.015249999999999986},null,626.81,{"$f":"MMULT(B228:E228,$H$12:$K$15)","v":0.006902324326281788},0.011545606863700809,-0.002981030063010224,0.004327923425336069]
[{"$f":"'Raw TPD'!A204","v":630.29},{"$f":"'Raw TPD'!B204+B$29","v":0.013675000000000104},{"$f":"'Raw TPD'!C204+C$29","v":0.016349000000000058},{"$f":"'Raw TPD'!D204+D$29","v":-0.008216999999999919},{"$f":"'Raw TPD'!E204+E$29","v":0.013785000000000047},null,630.29,{"$f":"MMULT(B229:E229,$H$12:$K$15)","v":6.8383709577715494E-4},7.4689319079176714E-4,-3.8994813836600336E-3,0.03391947644844136]
[{"$f":"'Raw TPD'!A205","v":632.57},{"$f":"'Raw TPD'!B205+B$29","v":0.04151400000000005},{"$f":"'Raw TPD'!C205+C$29","v":0.06274700000000011},{"$f":"'Raw TPD'!D205+D$29","v":0.00155100000000008},{"$f":"'Raw TPD'!E205+E$29","v":0.008413000000000004},null,632.57,{"$f":"MMULT(B230:E230,$H$12:$K$15)","v":0.008490986923023355},0.0157201220031955,1.2775176787445212E-3,-0.028142127698846005]
[{"$f":"'Raw TPD'!A206","v":636.09},{"$f":"'Raw TPD'!B206+B$29","v":0.0527470000000001},{"$f":"'Raw TPD'!C206+C$29","v":0.03197800000000006},{"$f":"'Raw TPD'!D206+D$29","v":5.7400000000007445E-4},{"$f":"'Raw TPD'!E206+E$29","v":0.014762000000000053},null,636.09,{"$f":"MMULT(B231:E231,$H$12:$K$15)","v":0.007763859420308327},0.004118117633476043,-3.5964227128050075E-4,0.023006532981263]
[{"$f":"'Raw TPD'!A207","v":639.52},{"$f":"'Raw TPD'!B207+B$29","v":0.019048000000000065},{"$f":"'Raw TPD'!C207+C$29","v":0.04174600000000006},{"$f":"'Raw TPD'!D207+D$29","v":8.5000000000001741E-5},{"$f":"'Raw TPD'!E207+E$29","v":0.004505000000000092},null,639.52,{"$f":"MMULT(B232:E232,$H$12:$K$15)","v":0.004397357429832057},0.01099278275122913,5.9648003764119933E-4,-0.022679571660519773]
[{"$f":"'Raw TPD'!A208","v":641.83},{"$f":"'Raw TPD'!B208+B$29","v":0.0332110000000001},{"$f":"'Raw TPD'!C208+C$29","v":0.047607000000000066},{"$f":"'Raw TPD'!D208+D$29","v":-4.309999999999925E-3},{"$f":"'Raw TPD'!E208+E$29","v":0.020133999999999985},null,641.83,{"$f":"MMULT(B233:E233,$H$12:$K$15)","v":4.1363058974883595E-3},0.007627869598489374,-2.2739035016866014E-3,0.02696717044085123]
[{"$f":"'Raw TPD'!A209","v":645.33},{"$f":"'Raw TPD'!B209+B$29","v":0.023932000000000064},{"$f":"'Raw TPD'!C209+C$29","v":0.05346800000000007},{"$f":"'Raw TPD'!D209+D$29","v":-1.8679999999999808E-3},{"$f":"'Raw TPD'!E209+E$29","v":0.009878000000000053},null,645.33,{"$f":"MMULT(B234:E234,$H$12:$K$15)","v":0.004784468303550204},0.012830348032655873,-3.3063976542761742E-4,-0.014605657179099847]
[{"$f":"'Raw TPD'!A210","v":647.63},{"$f":"'Raw TPD'!B210+B$29","v":0.03956000000000004},{"$f":"'Raw TPD'!C210+C$29","v":0.044188000000000116},{"$f":"'Raw TPD'!D210+D$29","v":-2.3569999999999425E-3},{"$f":"'Raw TPD'!E210+E$29","v":0.008413000000000004},null,647.63,{"$f":"MMULT(B235:E235,$H$12:$K$15)","v":7.4355588580559805E-3},0.010362195316177731,-6.1585326469924622E-4,-0.010453055491924934]
[{"$f":"'Raw TPD'!A211","v":649.88},{"$f":"'Raw TPD'!B211+B$29","v":0.01807100000000006},{"$f":"'Raw TPD'!C211+C$29","v":0.032466000000000106},{"$f":"'Raw TPD'!D211+D$29","v":2.527000000000057E-3},{"$f":"'Raw TPD'!E211+E$29","v":0.011832000000000065},null,649.88,{"$f":"MMULT(B236:E236,$H$12:$K$15)","v":2.1762652979770273E-3},5.4999887810512306E-3,6.6487529553577629E-4,0.011022170970280867]
[{"$f":"'Raw TPD'!A212","v":653.32},{"$f":"'Raw TPD'!B212+B$29","v":0.025885000000000047},{"$f":"'Raw TPD'!C212+C$29","v":0.047607000000000066},{"$f":"'Raw TPD'!D212+D$29","v":-3.3329999999999194E-3},{"$f":"'Raw TPD'!E212+E$29","v":0.007435999999999998},null,653.32,{"$f":"MMULT(B237:E237,$H$12:$K$15)","v":0.005419047592439494},0.011958192106008035,-8.0656859579264452E-4,-0.017363141452503075]
[{"$f":"'Raw TPD'!A213","v":655.61},{"$f":"'Raw TPD'!B213+B$29","v":0.020513000000000003},{"$f":"'Raw TPD'!C213+C$29","v":0.045653000000000055},{"$f":"'Raw TPD'!D213+D$29","v":-0.004798999999999998},{"$f":"'Raw TPD'!E213+E$29","v":2.5519999999999987E-3},null,655.61,{"$f":"MMULT(B238:E238,$H$12:$K$15)","v":5.445107543474729E-3},0.013189362974928603,-9.7548922640127236E-4,-0.03246170120866531]
[{"$f":"'Raw TPD'!A214","v":657.89},{"$f":"'Raw TPD'!B214+B$29","v":0.0332110000000001},{"$f":"'Raw TPD'!C214+C$29","v":0.04711799999999999},{"$f":"'Raw TPD'!D214+D$29","v":1.0620000000000074E-3},{"$f":"'Raw TPD'!E214+E$29","v":0.006948000000000065},null,657.89,{"$f":"MMULT(B239:E239,$H$12:$K$15)","v":0.006610641946300805},0.01157524505959948,8.6477342795693258E-4,-0.018869261510509584]
[{"$f":"'Raw TPD'!A215","v":661.36},{"$f":"'Raw TPD'!B215+B$29","v":0.018558999999999992},{"$f":"'Raw TPD'!C215+C$29","v":0.02514000000000005},{"$f":"'Raw TPD'!D215+D$29","v":-0.003821999999999992},{"$f":"'Raw TPD'!E215+E$29","v":0.014762000000000053},null,661.36,{"$f":"MMULT(B240:E240,$H$12:$K$15)","v":0.001577118732433178},2.7239827641642265E-3,-0.002137070453707296,0.028757007768248286]
[{"$f":"'Raw TPD'!A216","v":663.59},{"$f":"'Raw TPD'!B216+B$29","v":0.037117999999999984},{"$f":"'Raw TPD'!C216+C$29","v":0.03539700000000001},{"$f":"'Raw TPD'!D216+D$29","v":-2.3569999999999425E-3},{"$f":"'Raw TPD'!E216+E$29","v":0.008413000000000004},null,663.59,{"$f":"MMULT(B241:E241,$H$12:$K$15)","v":0.006590711173930617},0.007706025930292465,-8.178800932360827E-4,-2.3418290924609036E-3]
[{"$f":"'Raw TPD'!A217","v":665.9},{"$f":"'Raw TPD'!B217+B$29","v":0.01660600000000001},{"$f":"'Raw TPD'!C217+C$29","v":0.022210000000000063},{"$f":"'Raw TPD'!D217+D$29","v":-0.003821999999999992},{"$f":"'Raw TPD'!E217+E$29","v":0.006948000000000065},null,665.9,{"$f":"MMULT(B242:E242,$H$12:$K$15)","v":2.7057773214843326E-3},0.004510503301379766,-1.5294992267895833E-3,4.3634764188654855E-3]
[{"$f":"'Raw TPD'!A218","v":668.12},{"$f":"'Raw TPD'!B218+B$29","v":0.02490800000000004},{"$f":"'Raw TPD'!C218+C$29","v":0.03783900000000007},{"$f":"'Raw TPD'!D218+D$29","v":-2.3569999999999425E-3},{"$f":"'Raw TPD'!E218+E$29","v":3.0400000000000427E-3},null,668.12,{"$f":"MMULT(B243:E243,$H$12:$K$15)","v":0.005653776191647323},0.01041297015231476,-2.8765205788661234E-4,-0.023630089019178447]
[{"$f":"'Raw TPD'!A219","v":671.52},{"$f":"'Raw TPD'!B219+B$29","v":0.02637400000000001},{"$f":"'Raw TPD'!C219+C$29","v":0.03002400000000005},{"$f":"'Raw TPD'!D219+D$29","v":-0.005286999999999931},{"$f":"'Raw TPD'!E219+E$29","v":0.011832000000000065},null,671.52,{"$f":"MMULT(B244:E244,$H$12:$K$15)","v":3.8539502612002893E-3},0.005233115988778869,-2.3263622800426906E-3,0.014491261691267257]
[{"$f":"'Raw TPD'!A220","v":674.17},{"$f":"'Raw TPD'!B220+B$29","v":0.02490800000000004},{"$f":"'Raw TPD'!C220+C$29","v":0.029536000000000007},{"$f":"'Raw TPD'!D220+D$29","v":-4.0299999999993119E-4},{"$f":"'Raw TPD'!E220+E$29","v":6.4589999999999925E-3},null,674.17,{"$f":"MMULT(B245:E245,$H$12:$K$15)","v":4.4776824773983676E-3},6.573246712158233E-3,-4.316119125556911E-5,-0.004282035754066424]
[{"$f":"'Raw TPD'!A221","v":676.46},{"$f":"'Raw TPD'!B221+B$29","v":0.03125800000000001},{"$f":"'Raw TPD'!C221+C$29","v":0.029048000000000074},{"$f":"'Raw TPD'!D221+D$29","v":-4.0299999999993119E-4},{"$f":"'Raw TPD'!E221+E$29","v":0.005481999999999987},null,676.46,{"$f":"MMULT(B246:E246,$H$12:$K$15)","v":0.005779560110886471},0.006687622078046232,2.4514407627833617E-5,-0.006999160545056771]
[{"$f":"'Raw TPD'!A222","v":678.76},{"$f":"'Raw TPD'!B222+B$29","v":4.8840000000001105E-3},{"$f":"'Raw TPD'!C222+C$29","v":0.029048000000000074},{"$f":"'Raw TPD'!D222+D$29","v":-1.3799999999999368E-3},{"$f":"'Raw TPD'!E222+E$29","v":0.007435999999999998},null,678.76,{"$f":"MMULT(B247:E247,$H$12:$K$15)","v":7.5158000256373087E-4},0.00638118075839816,-4.8820836832170979E-4,-9.9581327185876631E-4]
[{"$f":"'Raw TPD'!A223","v":681.1},{"$f":"'Raw TPD'!B223+B$29","v":0.023932000000000064},{"$f":"'Raw TPD'!C223+C$29","v":0.03783900000000007},{"$f":"'Raw TPD'!D223+D$29","v":-0.007728999999999986},{"$f":"'Raw TPD'!E223+E$29","v":0.013297000000000003},null,681.1,{"$f":"MMULT(B248:E248,$H$12:$K$15)","v":0.003587970576824295},0.007323849624189925,-0.003184242495390105,0.012486750934319356]
[{"$f":"'Raw TPD'!A224","v":684.53},{"$f":"'Raw TPD'!B224+B$29","v":0.02149000000000001},{"$f":"'Raw TPD'!C224+C$29","v":0.03539700000000001},{"$f":"'Raw TPD'!D224+D$29","v":-0.006263999999999936},{"$f":"'Raw TPD'!E224+E$29","v":3.5290000000000044E-3},null,684.53,{"$f":"MMULT(B249:E249,$H$12:$K$15)","v":4.99541140127234E-3},0.009822991921319447,-1.8475134915027158E-3,-0.01931624937100942]
[{"$f":"'Raw TPD'!A225","v":686.78},{"$f":"'Raw TPD'!B225+B$29","v":0.014164000000000065},{"$f":"'Raw TPD'!C225+C$29","v":0.019280000000000075},{"$f":"'Raw TPD'!D225+D$29","v":-1.8679999999999808E-3},{"$f":"'Raw TPD'!E225+E$29","v":-3.7969999999999393E-3},null,686.78,{"$f":"MMULT(B250:E250,$H$12:$K$15)","v":4.271565975534534E-3},7.157631000833717E-3,6.338307779597493E-5,-0.03042538028762916]
[{"$f":"'Raw TPD'!A226","v":689.12},{"$f":"'Raw TPD'!B226+B$29","v":-1.9540000000000113E-3},{"$f":"'Raw TPD'!C226+C$29","v":6.581000000000059E-3},{"$f":"'Raw TPD'!D226+D$29","v":-4.309999999999925E-3},{"$f":"'Raw TPD'!E226+E$29","v":0.007924000000000042},null,689.12,{"$f":"MMULT(B251:E251,$H$12:$K$15)","v":-1.4925004489209687E-3},-3.5341766063214011E-4,-0.00214390350206054,0.021747767470789957]
[{"$f":"'Raw TPD'!A227","v":691.41},{"$f":"'Raw TPD'!B227+B$29","v":0.021001000000000047},{"$f":"'Raw TPD'!C227+C$29","v":0.010488000000000053},{"$f":"'Raw TPD'!D227+D$29","v":-0.005774999999999975},{"$f":"'Raw TPD'!E227+E$29","v":0.00597100000000006},null,691.41,{"$f":"MMULT(B252:E252,$H$12:$K$15)","v":0.003215103324757943},1.3600391701687263E-3,-2.4526903205312352E-3,0.01227965615267237]
[{"$f":"'Raw TPD'!A228","v":693.7},{"$f":"'Raw TPD'!B228+B$29","v":0.018558999999999992},{"$f":"'Raw TPD'!C228+C$29","v":7.2000000000005393E-4},{"$f":"'Raw TPD'!D228+D$29","v":5.7400000000007445E-4},{"$f":"'Raw TPD'!E228+E$29","v":0.010365999999999986},null,693.7,{"$f":"MMULT(B253:E253,$H$12:$K$15)","v":1.1548948432021258E-3},-3.5522726326411382E-3,-6.7768503852754609E-4,0.03577571274088319]
[{"$f":"'Raw TPD'!A229","v":697.13},{"$f":"'Raw TPD'!B229+B$29","v":0.032234000000000096},{"$f":"'Raw TPD'!C229+C$29","v":0.011465000000000058},{"$f":"'Raw TPD'!D229+D$29","v":-0.00675199999999998},{"$f":"'Raw TPD'!E229+E$29","v":4.994000000000054E-3},null,697.13,{"$f":"MMULT(B254:E254,$H$12:$K$15)","v":5.490022232794425E-3},1.939399671772074E-3,-0.002721110673380355,8.474443453629462E-3]
[{"$f":"'Raw TPD'!A230","v":699.42},{"$f":"'Raw TPD'!B230+B$29","v":0.002930000000000099},{"$f":"'Raw TPD'!C230+C$29","v":0.028071000000000068},{"$f":"'Raw TPD'!D230+D$29","v":-0.009193999999999924},{"$f":"'Raw TPD'!E230+E$29","v":-8.6699999999995114E-4},null,699.42,{"$f":"MMULT(B255:E255,$H$12:$K$15)","v":2.396270399086227E-3},9.498999146720746E-3,-2.7208003921304364E-3,-0.027985775301030608]